BEGIN:VCALENDAR
VERSION:2.0
PRODID:-//The Rum Syndicate - ECPv6.15.17.1//NONSGML v1.0//EN
CALSCALE:GREGORIAN
METHOD:PUBLISH
X-ORIGINAL-URL:https://rumsyndicate.live
X-WR-CALDESC:Events for The Rum Syndicate
REFRESH-INTERVAL;VALUE=DURATION:PT1H
X-Robots-Tag:noindex
X-PUBLISHED-TTL:PT1H
BEGIN:VTIMEZONE
TZID:America/New_York
BEGIN:DAYLIGHT
TZOFFSETFROM:-0500
TZOFFSETTO:-0400
TZNAME:EDT
DTSTART:20240310T070000
END:DAYLIGHT
BEGIN:STANDARD
TZOFFSETFROM:-0400
TZOFFSETTO:-0500
TZNAME:EST
DTSTART:20241103T060000
END:STANDARD
BEGIN:DAYLIGHT
TZOFFSETFROM:-0500
TZOFFSETTO:-0400
TZNAME:EDT
DTSTART:20250309T070000
END:DAYLIGHT
BEGIN:STANDARD
TZOFFSETFROM:-0400
TZOFFSETTO:-0500
TZNAME:EST
DTSTART:20251102T060000
END:STANDARD
BEGIN:DAYLIGHT
TZOFFSETFROM:-0500
TZOFFSETTO:-0400
TZNAME:EDT
DTSTART:20260308T070000
END:DAYLIGHT
BEGIN:STANDARD
TZOFFSETFROM:-0400
TZOFFSETTO:-0500
TZNAME:EST
DTSTART:20261101T060000
END:STANDARD
END:VTIMEZONE
BEGIN:VEVENT
DTSTART;TZID=America/New_York:20250405T180000
DTEND;TZID=America/New_York:20250405T220000
DTSTAMP:20260421T004516
CREATED:20250314T175139Z
LAST-MODIFIED:20250321T151305Z
UID:200-1743876000-1743890400@rumsyndicate.live
SUMMARY:A Tribute to Sir Elton John
DESCRIPTION:Doors Open at 6pm\n7:00-7:15 Hannah Phillips\n7:20-7:35 School of Rock Tampa North House Band\n7:38-7:53 Roper and Roper\n7:58-8:13 The Rum syndicate\n8:21-8:36 JCT 27\n8:44-9:00 The Mark Warren Commission\n9:08-9:23 Talk To Mark\n9:30-9:45 raffle\n9:50-10:05 Brian Jones Elevator music\n10:13-10:30 Tanner Boyle\n10:38-10:53 Ripperduski
URL:https://rumsyndicate.live/index.php/event/a-tribute-to-sir-elton-john/
LOCATION:Skipper’s Smokehouse\, 910 Skipper Rd\, Tampa\, FL\, 33613\, United States
CATEGORIES:Live Music
ATTACH;FMTTYPE=image/jpeg:https://rumsyndicate.live/wp-content/uploads/2025/03/FB_IMG_1741973755555.jpg
END:VEVENT
END:VCALENDAR