BEGIN:VCALENDAR
VERSION:2.0
PRODID:-//The Rum Syndicate - ECPv6.15.17.1//NONSGML v1.0//EN
CALSCALE:GREGORIAN
METHOD:PUBLISH
X-WR-CALNAME:The Rum Syndicate
X-ORIGINAL-URL:https://rumsyndicate.live
X-WR-CALDESC:Events for The Rum Syndicate
REFRESH-INTERVAL;VALUE=DURATION:PT1H
X-Robots-Tag:noindex
X-PUBLISHED-TTL:PT1H
BEGIN:VTIMEZONE
TZID:America/New_York
BEGIN:DAYLIGHT
TZOFFSETFROM:-0500
TZOFFSETTO:-0400
TZNAME:EDT
DTSTART:20240310T070000
END:DAYLIGHT
BEGIN:STANDARD
TZOFFSETFROM:-0400
TZOFFSETTO:-0500
TZNAME:EST
DTSTART:20241103T060000
END:STANDARD
BEGIN:DAYLIGHT
TZOFFSETFROM:-0500
TZOFFSETTO:-0400
TZNAME:EDT
DTSTART:20250309T070000
END:DAYLIGHT
BEGIN:STANDARD
TZOFFSETFROM:-0400
TZOFFSETTO:-0500
TZNAME:EST
DTSTART:20251102T060000
END:STANDARD
BEGIN:DAYLIGHT
TZOFFSETFROM:-0500
TZOFFSETTO:-0400
TZNAME:EDT
DTSTART:20260308T070000
END:DAYLIGHT
BEGIN:STANDARD
TZOFFSETFROM:-0400
TZOFFSETTO:-0500
TZNAME:EST
DTSTART:20261101T060000
END:STANDARD
END:VTIMEZONE
BEGIN:VEVENT
DTSTART;TZID=America/New_York:20251204T160000
DTEND;TZID=America/New_York:20251204T190000
DTSTAMP:20260420T112535
CREATED:20251203T210442Z
LAST-MODIFIED:20251203T210442Z
UID:446-1764864000-1764874800@rumsyndicate.live
SUMMARY:Tommy & Mimi LIVE at BLUFIN Waterfront Grille
DESCRIPTION:We’re back at the Doubletree by Hilton Rocky Point! Come enjoy chill\, relaxing vibes at BLUFIN Waterfront Grille. Wonderful drinks\, delectable food\, and music provided by us. 🍸🍹🍷 Maybe you’ll even catch a dolphin or manatee swimming by. 🐬🌊 See you there! \n  \nParking validation provided.
URL:https://rumsyndicate.live/index.php/event/tommy-mimi-live-at-blufin-waterfront-grille/
LOCATION:BLUFIN Waterfront Grille\, 3050 N Rocky Point Dr W\, Tampa\, FL\, 33607\, United States
CATEGORIES:acoustic duo,Booked,Live Music,Tommy & Mimi
ATTACH;FMTTYPE=image/png:https://rumsyndicate.live/wp-content/uploads/2025/12/Tommy_20251126_093232_0000.png
END:VEVENT
END:VCALENDAR