BEGIN:VCALENDAR
VERSION:2.0
PRODID:-//The Rum Syndicate - ECPv6.15.17.1//NONSGML v1.0//EN
CALSCALE:GREGORIAN
METHOD:PUBLISH
X-WR-CALNAME:The Rum Syndicate
X-ORIGINAL-URL:https://rumsyndicate.live
X-WR-CALDESC:Events for The Rum Syndicate
REFRESH-INTERVAL;VALUE=DURATION:PT1H
X-Robots-Tag:noindex
X-PUBLISHED-TTL:PT1H
BEGIN:VTIMEZONE
TZID:America/New_York
BEGIN:DAYLIGHT
TZOFFSETFROM:-0500
TZOFFSETTO:-0400
TZNAME:EDT
DTSTART:20250309T070000
END:DAYLIGHT
BEGIN:STANDARD
TZOFFSETFROM:-0400
TZOFFSETTO:-0500
TZNAME:EST
DTSTART:20251102T060000
END:STANDARD
BEGIN:DAYLIGHT
TZOFFSETFROM:-0500
TZOFFSETTO:-0400
TZNAME:EDT
DTSTART:20260308T070000
END:DAYLIGHT
BEGIN:STANDARD
TZOFFSETFROM:-0400
TZOFFSETTO:-0500
TZNAME:EST
DTSTART:20261101T060000
END:STANDARD
BEGIN:DAYLIGHT
TZOFFSETFROM:-0500
TZOFFSETTO:-0400
TZNAME:EDT
DTSTART:20270314T070000
END:DAYLIGHT
BEGIN:STANDARD
TZOFFSETFROM:-0400
TZOFFSETTO:-0500
TZNAME:EST
DTSTART:20271107T060000
END:STANDARD
END:VTIMEZONE
BEGIN:VEVENT
DTSTART;TZID=America/New_York:20260423T170000
DTEND;TZID=America/New_York:20260423T210000
DTSTAMP:20260420T004901
CREATED:20260402T161051Z
LAST-MODIFIED:20260402T161051Z
UID:519-1776963600-1776978000@rumsyndicate.live
SUMMARY:Tommy & Mimi LIVE at Hurricane Eddie's Gulfport
DESCRIPTION:We’re back! Hurricane Eddie’s is finally reopened\, and Tommy & Mimi are ready to entertain you. Come for the tunes\, stay for the drinks. \n\n\n\n\n\n\n\n\nTommy & Mimi are an acoustic duo covering a wide variety of genres with something to please everyone. They are sure to get your toes tapping and have you singing along.\nSee you there!
URL:https://rumsyndicate.live/index.php/event/tommy-mimi-live-at-hurricane-eddies-gulfport/
LOCATION:Hurricane Eddie’s Gulfport\, 5413 Shore Blvd S\, Gulfport\, FL\, 33747\, United States
CATEGORIES:acoustic duo,Live Music,Tommy & Mimi
ATTACH;FMTTYPE=image/png:https://rumsyndicate.live/wp-content/uploads/2026/04/Tommy-Mimi-1.png
END:VEVENT
BEGIN:VEVENT
DTSTART;TZID=America/New_York:20260508T183000
DTEND;TZID=America/New_York:20260508T213000
DTSTAMP:20260420T004901
CREATED:20260406T184830Z
LAST-MODIFIED:20260406T184830Z
UID:528-1778265000-1778275800@rumsyndicate.live
SUMMARY:The Rum Syndicate LIVE at Sunset Grille
DESCRIPTION:Tommy August & the Rum Syndicate are back at Sunset Grille for a fun night of rockabilly\, surf\, and psychobilly you soon won’t forget. Come for the inexpensive drinks\, amazing food\, and us! We’re every second Friday\, so mark those calendars. \n  \nWe’re at a new later time\, so take note. \n  \nPlease note the event is weather-dependent as it is an outdoor stage.
URL:https://rumsyndicate.live/index.php/event/the-rum-syndicate-live-at-sunset-grille-15/
LOCATION:Sunset Grille\, 2996 Dr M.L.K Jr St N\, St Petersburg\, FL\, 33704\, United States
CATEGORIES:Live Music,The Rum Syndicate
ATTACH;FMTTYPE=image/png:https://rumsyndicate.live/wp-content/uploads/2025/12/Sunset-Nov_20251215_170752_0000.png
END:VEVENT
END:VCALENDAR