BEGIN:VCALENDAR
VERSION:2.0
PRODID:-//The Rum Syndicate - ECPv6.15.17.1//NONSGML v1.0//EN
CALSCALE:GREGORIAN
METHOD:PUBLISH
X-ORIGINAL-URL:https://rumsyndicate.live
X-WR-CALDESC:Events for The Rum Syndicate
REFRESH-INTERVAL;VALUE=DURATION:PT1H
X-Robots-Tag:noindex
X-PUBLISHED-TTL:PT1H
BEGIN:VTIMEZONE
TZID:America/New_York
BEGIN:DAYLIGHT
TZOFFSETFROM:-0500
TZOFFSETTO:-0400
TZNAME:EDT
DTSTART:20250309T070000
END:DAYLIGHT
BEGIN:STANDARD
TZOFFSETFROM:-0400
TZOFFSETTO:-0500
TZNAME:EST
DTSTART:20251102T060000
END:STANDARD
BEGIN:DAYLIGHT
TZOFFSETFROM:-0500
TZOFFSETTO:-0400
TZNAME:EDT
DTSTART:20260308T070000
END:DAYLIGHT
BEGIN:STANDARD
TZOFFSETFROM:-0400
TZOFFSETTO:-0500
TZNAME:EST
DTSTART:20261101T060000
END:STANDARD
BEGIN:DAYLIGHT
TZOFFSETFROM:-0500
TZOFFSETTO:-0400
TZNAME:EDT
DTSTART:20270314T070000
END:DAYLIGHT
BEGIN:STANDARD
TZOFFSETFROM:-0400
TZOFFSETTO:-0500
TZNAME:EST
DTSTART:20271107T060000
END:STANDARD
END:VTIMEZONE
BEGIN:VEVENT
DTSTART;TZID=America/New_York:20260208T160000
DTEND;TZID=America/New_York:20260208T183000
DTSTAMP:20260420T021359
CREATED:20260205T223225Z
LAST-MODIFIED:20260205T223225Z
UID:491-1770566400-1770575400@rumsyndicate.live
SUMMARY:Private Party
DESCRIPTION:
URL:https://rumsyndicate.live/index.php/event/private-party-2/
LOCATION:FL
CATEGORIES:Booked,Private Party
END:VEVENT
BEGIN:VEVENT
DTSTART;TZID=America/New_York:20260213T183000
DTEND;TZID=America/New_York:20260213T213000
DTSTAMP:20260420T021359
CREATED:20251216T163858Z
LAST-MODIFIED:20251216T163858Z
UID:479-1771007400-1771018200@rumsyndicate.live
SUMMARY:The Rum Syndicate LIVE at Sunset Grille
DESCRIPTION:Tommy August & the Rum Syndicate are back at Sunset Grille for a fun night of rockabilly\, surf\, and psychobilly you soon won’t forget. Come for the inexpensive drinks\, amazing food\, and us! We’re every second Friday\, so mark those calendars. \nWe’re at a new later time\, so take note. \nPlease note the event is weather-dependent as it is an outdoor stage.
URL:https://rumsyndicate.live/index.php/event/the-rum-syndicate-live-at-sunset-grille-13/
LOCATION:Sunset Grille\, 2996 Dr M.L.K Jr St N\, St Petersburg\, FL\, 33704\, United States
CATEGORIES:Holidays,The Rum Syndicate
ATTACH;FMTTYPE=image/png:https://rumsyndicate.live/wp-content/uploads/2025/12/Sunset-Nov_20251215_170752_0000.png
END:VEVENT
BEGIN:VEVENT
DTSTART;TZID=America/New_York:20260228T170000
DTEND;TZID=America/New_York:20260228T210000
DTSTAMP:20260420T021359
CREATED:20260210T174312Z
LAST-MODIFIED:20260210T174312Z
UID:494-1772298000-1772312400@rumsyndicate.live
SUMMARY:Tommy August DEBUT at Whiskey Joe's Port Richey
DESCRIPTION:Tommy August is making his solo debut at Whiskey Joe’s Port Richey! Come for Tommy’s fun and eclectic mix of songs that will be sure to get you singing along… stay for the awesome food\, great drinks\, and amazing staff. See you there! \n  \n🐊🍹🎸
URL:https://rumsyndicate.live/index.php/event/tommy-august-debut-at-whiskey-joes-port-richey/
LOCATION:Whiskey Joe’s Port Richey\, 7835 Bayview St\, Port Richey\, FL\, 34668\, United States
CATEGORIES:Booked,Live Music,Solo
ATTACH;FMTTYPE=image/png:https://rumsyndicate.live/wp-content/uploads/2026/02/Post-de-Facebook-minimalista-con-frase-inspiradora_20260207_205705_0000.png
END:VEVENT
END:VCALENDAR