BEGIN:VCALENDAR
VERSION:2.0
PRODID:-//The Rum Syndicate - ECPv6.15.17.1//NONSGML v1.0//EN
CALSCALE:GREGORIAN
METHOD:PUBLISH
X-WR-CALNAME:The Rum Syndicate
X-ORIGINAL-URL:https://rumsyndicate.live
X-WR-CALDESC:Events for The Rum Syndicate
REFRESH-INTERVAL;VALUE=DURATION:PT1H
X-Robots-Tag:noindex
X-PUBLISHED-TTL:PT1H
BEGIN:VTIMEZONE
TZID:America/New_York
BEGIN:DAYLIGHT
TZOFFSETFROM:-0500
TZOFFSETTO:-0400
TZNAME:EDT
DTSTART:20230312T070000
END:DAYLIGHT
BEGIN:STANDARD
TZOFFSETFROM:-0400
TZOFFSETTO:-0500
TZNAME:EST
DTSTART:20231105T060000
END:STANDARD
BEGIN:DAYLIGHT
TZOFFSETFROM:-0500
TZOFFSETTO:-0400
TZNAME:EDT
DTSTART:20240310T070000
END:DAYLIGHT
BEGIN:STANDARD
TZOFFSETFROM:-0400
TZOFFSETTO:-0500
TZNAME:EST
DTSTART:20241103T060000
END:STANDARD
BEGIN:DAYLIGHT
TZOFFSETFROM:-0500
TZOFFSETTO:-0400
TZNAME:EDT
DTSTART:20250309T070000
END:DAYLIGHT
BEGIN:STANDARD
TZOFFSETFROM:-0400
TZOFFSETTO:-0500
TZNAME:EST
DTSTART:20251102T060000
END:STANDARD
BEGIN:DAYLIGHT
TZOFFSETFROM:-0500
TZOFFSETTO:-0400
TZNAME:EDT
DTSTART:20260308T070000
END:DAYLIGHT
BEGIN:STANDARD
TZOFFSETFROM:-0400
TZOFFSETTO:-0500
TZNAME:EST
DTSTART:20261101T060000
END:STANDARD
END:VTIMEZONE
BEGIN:VEVENT
DTSTART;TZID=America/New_York:20250131T190000
DTEND;TZID=America/New_York:20250131T220000
DTSTAMP:20260420T195308
CREATED:20241226T190353Z
LAST-MODIFIED:20250113T192752Z
UID:103-1738350000-1738360800@rumsyndicate.live
SUMMARY:Tommy & Mimi LIVE at The HONU
DESCRIPTION:It’s Tommy and Mimi’s trek to Dunedin to play the gorgeous courtyard at the HONU. Join them as they play an eclectic mix of music from various genres and decades while you enjoy amazing food and the best craft cocktails in town.\nThe fun starts at 7 pm\, so be sure to grab your tables early!
URL:https://rumsyndicate.live/index.php/event/tommy-mimi-live-at-the-honu-2/
LOCATION:The Honu\, 516 Grant Street\, Dunedin\, FL\, 34698\, United States
CATEGORIES:Live Music
ATTACH;FMTTYPE=image/png:https://rumsyndicate.live/wp-content/uploads/2024/12/Honu-IG_20250105_213552_0000.png
END:VEVENT
BEGIN:VEVENT
DTSTART;TZID=America/New_York:20250119T180000
DTEND;TZID=America/New_York:20250119T220000
DTSTAMP:20260420T195308
CREATED:20241224T170929Z
LAST-MODIFIED:20241224T170929Z
UID:86-1737309600-1737324000@rumsyndicate.live
SUMMARY:Unavailable
DESCRIPTION:
URL:https://rumsyndicate.live/index.php/event/unavailable-3/
LOCATION:FL
END:VEVENT
BEGIN:VEVENT
DTSTART;VALUE=DATE:20250118
DTEND;VALUE=DATE:20250119
DTSTAMP:20260420T195308
CREATED:20241224T170842Z
LAST-MODIFIED:20241224T171022Z
UID:84-1737165600-1737244799@rumsyndicate.live
SUMMARY:Unavailable
DESCRIPTION:
URL:https://rumsyndicate.live/index.php/event/unavailable-2/
LOCATION:FL
END:VEVENT
BEGIN:VEVENT
DTSTART;TZID=America/New_York:20250117T200000
DTEND;TZID=America/New_York:20250118T000000
DTSTAMP:20260420T195308
CREATED:20241224T165947Z
LAST-MODIFIED:20250113T190840Z
UID:80-1737144000-1737158400@rumsyndicate.live
SUMMARY:The Rum Syndicate LIVE at Banana Wind
DESCRIPTION:The Rum Syndicate is making the trek to Zephyrhills to entertain you! This place has an amazing stage\, room to dance\, and cold drinks. What more could you ask for? Fun starts at 8 pm. Be there.
URL:https://rumsyndicate.live/index.php/event/the-rum-syndicate-live-at-banana-wind/
LOCATION:Banana Wind\, 5536 Gall Blvd\, Zephyrhills\, FL\, 33542\, United States
END:VEVENT
BEGIN:VEVENT
DTSTART;TZID=America/New_York:20250110T180000
DTEND;TZID=America/New_York:20250110T210000
DTSTAMP:20260420T195308
CREATED:20241224T170739Z
LAST-MODIFIED:20241224T170739Z
UID:82-1736532000-1736542800@rumsyndicate.live
SUMMARY:The Rum Syndicate LIVE at Sunset Grille
DESCRIPTION:Tommy August & the Rum Syndicate are back at Sunset Grille for a fun night of rockabilly\, surf\, and psychobilly you soon won’t forget. come for the inexpensive drinks\, amazing food\, and us!\nPlease note the event is weather-dependent as it is an outdoor stage.
URL:https://rumsyndicate.live/index.php/event/the-rum-syndicate-live-at-sunset-grille/
LOCATION:FL
END:VEVENT
BEGIN:VEVENT
DTSTART;TZID=America/New_York:20250103T190000
DTEND;TZID=America/New_York:20250103T220000
DTSTAMP:20260420T195308
CREATED:20241224T164854Z
LAST-MODIFIED:20241224T164854Z
UID:78-1735930800-1735941600@rumsyndicate.live
SUMMARY:Unavailable
DESCRIPTION:
URL:https://rumsyndicate.live/index.php/event/unavailable/
LOCATION:FL
END:VEVENT
BEGIN:VEVENT
DTSTART;TZID=America/New_York:20241228T190000
DTEND;TZID=America/New_York:20241228T220000
DTSTAMP:20260420T195308
CREATED:20241220T031757Z
LAST-MODIFIED:20241220T031757Z
UID:44-1735412400-1735423200@rumsyndicate.live
SUMMARY:Tommy & Mimi LIVE at The HONU
DESCRIPTION:It’s Tommy and Mimi’s trek to Dunedin to playthe gorgeous courtyard at the HONU. Join them as theyplay an eclectic mix of music from various genres anddecades while you enjoy amazing food and the bestcraft cocktails in town.\nThe fun starts at 7 pm\, so be sure to grab your tablesearly!
URL:https://rumsyndicate.live/index.php/event/tommy-mimi-live-at-the-honu/
LOCATION:The Honu\, 516 Grant Street\, Dunedin\, FL\, 34698\, United States
END:VEVENT
BEGIN:VEVENT
DTSTART;TZID=America/New_York:20241227T183000
DTEND;TZID=America/New_York:20241227T213000
DTSTAMP:20260420T195308
CREATED:20241220T031242Z
LAST-MODIFIED:20241220T031242Z
UID:41-1735324200-1735335000@rumsyndicate.live
SUMMARY:The Rum Syndicate LIVE at American Legion 125
DESCRIPTION:Let’s boogie down at AL Post 125. We’ll provide a danceable mix of tunes sure to keep you on the floor. Non-members welcome!
URL:https://rumsyndicate.live/index.php/event/the-rum-syndicate-live-at-american-legion-125/
LOCATION:American Legion Post 125\, 6440 5th Ave S\, St. Petersburg\, FL\, 33707\, United States
END:VEVENT
BEGIN:VEVENT
DTSTART;TZID=America/New_York:20241226T080000
DTEND;TZID=America/New_York:20241226T170000
DTSTAMP:20260420T195308
CREATED:20241226T190639Z
LAST-MODIFIED:20241226T190639Z
UID:107-1735200000-1735232400@rumsyndicate.live
SUMMARY:Unavailable
DESCRIPTION:
URL:https://rumsyndicate.live/index.php/event/unavailable-4/
LOCATION:FL
END:VEVENT
END:VCALENDAR