BEGIN:VCALENDAR
VERSION:2.0
PRODID:-//The Rum Syndicate - ECPv6.15.17.1//NONSGML v1.0//EN
CALSCALE:GREGORIAN
METHOD:PUBLISH
X-WR-CALNAME:The Rum Syndicate
X-ORIGINAL-URL:https://rumsyndicate.live
X-WR-CALDESC:Events for The Rum Syndicate
REFRESH-INTERVAL;VALUE=DURATION:PT1H
X-Robots-Tag:noindex
X-PUBLISHED-TTL:PT1H
BEGIN:VTIMEZONE
TZID:America/New_York
BEGIN:DAYLIGHT
TZOFFSETFROM:-0500
TZOFFSETTO:-0400
TZNAME:EDT
DTSTART:20240310T070000
END:DAYLIGHT
BEGIN:STANDARD
TZOFFSETFROM:-0400
TZOFFSETTO:-0500
TZNAME:EST
DTSTART:20241103T060000
END:STANDARD
BEGIN:DAYLIGHT
TZOFFSETFROM:-0500
TZOFFSETTO:-0400
TZNAME:EDT
DTSTART:20250309T070000
END:DAYLIGHT
BEGIN:STANDARD
TZOFFSETFROM:-0400
TZOFFSETTO:-0500
TZNAME:EST
DTSTART:20251102T060000
END:STANDARD
BEGIN:DAYLIGHT
TZOFFSETFROM:-0500
TZOFFSETTO:-0400
TZNAME:EDT
DTSTART:20260308T070000
END:DAYLIGHT
BEGIN:STANDARD
TZOFFSETFROM:-0400
TZOFFSETTO:-0500
TZNAME:EST
DTSTART:20261101T060000
END:STANDARD
END:VTIMEZONE
BEGIN:VEVENT
DTSTART;TZID=America/New_York:20250711T183000
DTEND;TZID=America/New_York:20250711T213000
DTSTAMP:20260420T182618
CREATED:20250618T143959Z
LAST-MODIFIED:20250618T143959Z
UID:308-1752258600-1752269400@rumsyndicate.live
SUMMARY:The Rum Syndicate LIVE at Sunset Grille
DESCRIPTION:Tommy August & the Rum Syndicate are back at Sunset Grille for a fun night of rockabilly\, surf\, and psychobilly you soon won’t forget. Come for the inexpensive drinks\, amazing food\, and us! \n\nPlease note the event is weather-dependent as it is an outdoor stage.
URL:https://rumsyndicate.live/index.php/event/the-rum-syndicate-live-at-sunset-grille-6/
LOCATION:Sunset Grille\, 2996 Dr M.L.K Jr St N\, St Petersburg\, FL\, 33704\, United States
CATEGORIES:Live Music,The Rum Syndicate
END:VEVENT
BEGIN:VEVENT
DTSTART;TZID=America/New_York:20250705T190000
DTEND;TZID=America/New_York:20250705T233000
DTSTAMP:20260420T182618
CREATED:20250618T142423Z
LAST-MODIFIED:20250618T142423Z
UID:303-1751742000-1751758200@rumsyndicate.live
SUMMARY:Indie-Pendence at the Post
DESCRIPTION:Get your grills and your dancing shoes ready\, because INDIE*PENDENCE BBQ is back and better than ever! Join us for the 4th annual INDIE*PENDENCE BBQ at VFW 39 at 2599 Central Ave N\, St. Petersburg\, FL 33713 on SAT July 5th the day after Independence Day. \n  \nThis summer extravaganza is filled with everything you need for a good time: hot BBQ by the amazing NEW YORK BBQ & CATERING! There are going to be local artists showcasing their work\, Local vendors with awesome merch. We also have non-stop music from top DJs and bands like music from: \n  \nThe Rum Syndicate\, Guilty by Design\, Pangea Gang Feat.Esara + Know Justice\, Steph Perez\, DJ Swankadelic\, Lina Simmons\, PHAZEGAWD \, Code:Savi\, Mothman\, AMPLI- SABOTEUR\, Selective Hearing\, John Lowe + Betamaxdj! on both indoor and outdoor stages! \n  \nWe’re honored to offer free entry to all First Responders\, Fire Rescue\, Ems\, + active duty service members and veterans all night with I.D. and Free FROM 4PM- 9pm for everyone! $15 from 9pm to close for general public. Come celebrate the up coming Independence Day in style with us at INDIE*PENDENCE BBQ. The best part? It’s all helping our Local VFW post with their upgrades and ongoing repair efforts! \n  \nSpecial thanks to our sponsor’s\, \n  \nNo Vacancy Clothing Company\, Good Carma\, The Sweet Sisters General Store\, Mel’s Spells\, New York BBQ and Catering\, WWW.TEK-NIQUE.COM\, FULL TIME GEEKS\, LIFE UNPLUGGED\, LIMITLESS CREATIVE\, 3 WOLVES STREETWEAR & www.goldentouchmotivational.com\, www.shamrock-hollow-farms.com \n  \nSo grab your friends and family\, and get ready for a weekend filled with good music\, great art\, and mouth-watering BBQ. For more information on our venue\, pricing\, and event details\, please visit our website at \nWWW.TEK-NIQUE.COM. \n  \nWANT TO BE INVOLVED FIND OUT HOW AT WWW.TEK-NIQUE.COM \n  \nVendors spaces still Left! \n  \n1727.327.8109 \n  \n2599 Central Ave N\, \nSt. Petersburg\, FL 33713
URL:https://rumsyndicate.live/index.php/event/indie-pendence-at-the-post/
LOCATION:VFW Post 39\, 2599 Central Avenue\, St. Petersburg\, FL\, 33713\, United States
CATEGORIES:Festivals,Live Music,The Rum Syndicate
ATTACH;FMTTYPE=image/jpeg:https://rumsyndicate.live/wp-content/uploads/2025/06/FB_IMG_1749671411651.jpg
END:VEVENT
BEGIN:VEVENT
DTSTART;TZID=America/New_York:20250704T190000
DTEND;TZID=America/New_York:20250704T220000
DTSTAMP:20260420T182618
CREATED:20250618T141650Z
LAST-MODIFIED:20250618T141650Z
UID:301-1751655600-1751666400@rumsyndicate.live
SUMMARY:Unavailable
DESCRIPTION:
URL:https://rumsyndicate.live/index.php/event/unavailable-12/
LOCATION:FL
CATEGORIES:Booked
END:VEVENT
BEGIN:VEVENT
DTSTART;TZID=America/New_York:20250628T200000
DTEND;TZID=America/New_York:20250628T233000
DTSTAMP:20260420T182618
CREATED:20250618T141147Z
LAST-MODIFIED:20250618T141147Z
UID:297-1751140800-1751153400@rumsyndicate.live
SUMMARY:The Vindicators at Brass Mug
DESCRIPTION:The Vindicators
URL:https://rumsyndicate.live/index.php/event/the-vindicators-at-brass-mug/
LOCATION:Brass Mug\, 1450 Skipper Rd\, Tampa\, FL\, 33613\, United States
CATEGORIES:Live Music,The Vindicators
ATTACH;FMTTYPE=image/jpeg:https://rumsyndicate.live/wp-content/uploads/2025/06/IMG_20250526_140723.jpg
END:VEVENT
BEGIN:VEVENT
DTSTART;TZID=America/New_York:20250620T190000
DTEND;TZID=America/New_York:20250620T220000
DTSTAMP:20260420T182618
CREATED:20250430T173840Z
LAST-MODIFIED:20250430T173840Z
UID:262-1750446000-1750456800@rumsyndicate.live
SUMMARY:Tommy & Mimi LIVE at The HONU
DESCRIPTION:It’s Tommy and Mimi’s trek to Dunedin to play the gorgeous courtyard at the HONU. Join them as they play an eclectic mix of music from various genres and decades while you enjoy amazing food and the best craft cocktails in town. \nThe fun starts at 7 pm\, so be sure to grab your tables early!
URL:https://rumsyndicate.live/index.php/event/tommy-mimi-live-at-the-honu-4/
LOCATION:The Honu\, 516 Grant Street\, Dunedin\, FL\, 34698\, United States
CATEGORIES:acoustic duo,Live Music
ATTACH;FMTTYPE=image/png:https://rumsyndicate.live/wp-content/uploads/2025/04/Tommy-Mimi_20250429_140228_0000.png
END:VEVENT
BEGIN:VEVENT
DTSTART;VALUE=DATE:20250620
DTEND;VALUE=DATE:20250622
DTSTAMP:20260420T182618
CREATED:20250618T144554Z
LAST-MODIFIED:20250618T144554Z
UID:312-1750384800-1750471199@rumsyndicate.live
SUMMARY:The Tiki Hut Song Release
DESCRIPTION:It’s finally here! The release of our first song on our up coming EP is finally here! The Tiki Hut Song is a fun little beach vibe song\, and it’s sure to keep you singing along. Find it where you listen to music.
URL:https://rumsyndicate.live/index.php/event/the-tiki-hut-song-release/
LOCATION:FL
CATEGORIES:Recording,The Rum Syndicate
ATTACH;FMTTYPE=image/jpeg:https://rumsyndicate.live/wp-content/uploads/2025/06/download-1.jpeg
END:VEVENT
BEGIN:VEVENT
DTSTART;TZID=America/New_York:20250523T200000
DTEND;TZID=America/New_York:20250523T235900
DTSTAMP:20260420T182618
CREATED:20250430T172420Z
LAST-MODIFIED:20250430T172420Z
UID:259-1748030400-1748044740@rumsyndicate.live
SUMMARY:The Rum Syndicate LIVE at Banana Wind
DESCRIPTION:The Rum Syndicate is making the trek to Zephyrhills to entertain you! This place has an amazing stage\, room to dance\, and cold drinks. What more could you ask for? Fun starts at 8 pm. Be there.
URL:https://rumsyndicate.live/index.php/event/the-rum-syndicate-live-at-banana-wind-2/
LOCATION:Banana Wind\, 5536 Gall Blvd\, Zephyrhills\, FL\, 33542\, United States
CATEGORIES:Booked,Live Music
ATTACH;FMTTYPE=image/png:https://rumsyndicate.live/wp-content/uploads/2025/04/The-Rum-Syndicate_20250426_223121_0000.png
END:VEVENT
BEGIN:VEVENT
DTSTART;TZID=America/New_York:20250517T200000
DTEND;TZID=America/New_York:20250517T233000
DTSTAMP:20260420T182618
CREATED:20250501T155928Z
LAST-MODIFIED:20250501T155928Z
UID:287-1747512000-1747524600@rumsyndicate.live
SUMMARY:Unavailable
DESCRIPTION:
URL:https://rumsyndicate.live/index.php/event/unavailable-11/
LOCATION:FL
CATEGORIES:Booked
END:VEVENT
BEGIN:VEVENT
DTSTART;TZID=America/New_York:20250509T180000
DTEND;TZID=America/New_York:20250509T210000
DTSTAMP:20260420T182618
CREATED:20250430T172110Z
LAST-MODIFIED:20250430T172110Z
UID:256-1746813600-1746824400@rumsyndicate.live
SUMMARY:The Rum Syndicate LIVE at Sunset Grille
DESCRIPTION:Join us as we show off the newest band member: Mimi’s upright bass! Dance and sing along while enjoying some awesome food and inexpensive drinks. See you there!
URL:https://rumsyndicate.live/index.php/event/the-rum-syndicate-live-at-sunset-grille-5/
LOCATION:Sunset Grille\, 2996 Dr M.L.K Jr St N\, St Petersburg\, FL\, 33704\, United States
CATEGORIES:Live Music
ATTACH;FMTTYPE=image/png:https://rumsyndicate.live/wp-content/uploads/2025/04/Sunset-Grille-_20250426_172503_0000.png
END:VEVENT
BEGIN:VEVENT
DTSTART;TZID=America/New_York:20250504T143000
DTEND;TZID=America/New_York:20250504T153000
DTSTAMP:20260420T182618
CREATED:20250410T213021Z
LAST-MODIFIED:20250410T213021Z
UID:240-1746369000-1746372600@rumsyndicate.live
SUMMARY:The Rum Syndicate LIVE at Mamapalooza
DESCRIPTION:Join us for an afternoon of fun\, good\, art\, shopping\, and live music! Celebrate all things mom. Well be taking the stage at 2:30. See you there!
URL:https://rumsyndicate.live/index.php/event/the-rum-syndicate-live-at-mamapalooza/
LOCATION:Fairgrounds St. Pete\, 2606 Fairfield Ave\, St. Petersburg\, FL\, 33712\, United States
CATEGORIES:Festivals,Live Music
ATTACH;FMTTYPE=image/png:https://rumsyndicate.live/wp-content/uploads/2025/04/mamapalooza_fb_24.png
END:VEVENT
BEGIN:VEVENT
DTSTART;TZID=America/New_York:20250502T190000
DTEND;TZID=America/New_York:20250502T220000
DTSTAMP:20260420T182618
CREATED:20250501T155639Z
LAST-MODIFIED:20250501T155717Z
UID:285-1746212400-1746223200@rumsyndicate.live
SUMMARY:Unavailable
DESCRIPTION:
URL:https://rumsyndicate.live/index.php/event/unavailable-10/
LOCATION:FL
CATEGORIES:Booked
END:VEVENT
BEGIN:VEVENT
DTSTART;TZID=America/New_York:20250425T190000
DTEND;TZID=America/New_York:20250425T220000
DTSTAMP:20260420T182618
CREATED:20250321T151044Z
LAST-MODIFIED:20250321T151044Z
UID:218-1745607600-1745618400@rumsyndicate.live
SUMMARY:Tommy & Mimi LIVE at the HONU
DESCRIPTION:It’s Tommy and Mimi’s trek to Dunedin to play the gorgeous courtyard at the HONU. Join them as they play an eclectic mix of music from various genres and decades while you enjoy amazing food and the best craft cocktails in town. \nThe fun starts at 7 pm\, so be sure to grab your tables early!
URL:https://rumsyndicate.live/index.php/event/tommy-mimi-live-at-the-honu-3/
LOCATION:The Honu\, 516 Grant Street\, Dunedin\, FL\, 34698\, United States
CATEGORIES:acoustic duo,Live Music
ATTACH;FMTTYPE=image/png:https://rumsyndicate.live/wp-content/uploads/2025/03/Honu-IG-1.png
END:VEVENT
BEGIN:VEVENT
DTSTART;TZID=America/New_York:20250413T100000
DTEND;TZID=America/New_York:20250413T133000
DTSTAMP:20260420T182618
CREATED:20250314T184655Z
LAST-MODIFIED:20250321T151548Z
UID:207-1744538400-1744551000@rumsyndicate.live
SUMMARY:The Rum Syndicate LIVE at Pepper Fest
DESCRIPTION:We’re taking the Pepper Fest stage and it will be spicy! Come boogie down on the lawn and get your fill of all things picante.
URL:https://rumsyndicate.live/index.php/event/the-rum-syndicate-live-at-pepper-fest/
LOCATION:England Brothers Park\, 5010 81st Ave N\, Pinellas Park\, FL\, 33781\, United States
CATEGORIES:Live Music
ATTACH;FMTTYPE=image/jpeg:https://rumsyndicate.live/wp-content/uploads/2025/03/FB_IMG_1741977741639.jpg
END:VEVENT
BEGIN:VEVENT
DTSTART;TZID=America/New_York:20250411T180000
DTEND;TZID=America/New_York:20250411T210000
DTSTAMP:20260420T182618
CREATED:20250314T184031Z
LAST-MODIFIED:20250321T151351Z
UID:204-1744394400-1744405200@rumsyndicate.live
SUMMARY:The Rum Syndicate LIVE at Sunset Grille
DESCRIPTION:Tommy August & the Rum Syndicate are back at Sunset Grille for a fun night of rockabilly\, surf\, and psychobilly you soon won’t forget. Come for the inexpensive drinks\, amazing food\, and us!\nPlease note the event is weather-dependent as it is an outdoor stage.
URL:https://rumsyndicate.live/index.php/event/the-rum-syndicate-live-at-sunset-grille-4/
LOCATION:Sunset Grille\, 2996 Dr M.L.K Jr St N\, St Petersburg\, FL\, 33704\, United States
CATEGORIES:Live Music
ATTACH;FMTTYPE=image/png:https://rumsyndicate.live/wp-content/uploads/2025/03/Sunset-Grille-_20250314_143606_0000.png
END:VEVENT
BEGIN:VEVENT
DTSTART;TZID=America/New_York:20250405T180000
DTEND;TZID=America/New_York:20250405T220000
DTSTAMP:20260420T182618
CREATED:20250314T175139Z
LAST-MODIFIED:20250321T151305Z
UID:200-1743876000-1743890400@rumsyndicate.live
SUMMARY:A Tribute to Sir Elton John
DESCRIPTION:Doors Open at 6pm\n7:00-7:15 Hannah Phillips\n7:20-7:35 School of Rock Tampa North House Band\n7:38-7:53 Roper and Roper\n7:58-8:13 The Rum syndicate\n8:21-8:36 JCT 27\n8:44-9:00 The Mark Warren Commission\n9:08-9:23 Talk To Mark\n9:30-9:45 raffle\n9:50-10:05 Brian Jones Elevator music\n10:13-10:30 Tanner Boyle\n10:38-10:53 Ripperduski
URL:https://rumsyndicate.live/index.php/event/a-tribute-to-sir-elton-john/
LOCATION:Skipper’s Smokehouse\, 910 Skipper Rd\, Tampa\, FL\, 33613\, United States
CATEGORIES:Live Music
ATTACH;FMTTYPE=image/jpeg:https://rumsyndicate.live/wp-content/uploads/2025/03/FB_IMG_1741973755555.jpg
END:VEVENT
BEGIN:VEVENT
DTSTART;TZID=America/New_York:20250404T190000
DTEND;TZID=America/New_York:20250404T220000
DTSTAMP:20260420T182618
CREATED:20250314T173146Z
LAST-MODIFIED:20250314T173146Z
UID:194-1743793200-1743804000@rumsyndicate.live
SUMMARY:Unavailable
DESCRIPTION:
URL:https://rumsyndicate.live/index.php/event/unavailable-9/
LOCATION:FL
CATEGORIES:Booked
END:VEVENT
BEGIN:VEVENT
DTSTART;TZID=America/New_York:20250329T110000
DTEND;TZID=America/New_York:20250329T190000
DTSTAMP:20260420T182618
CREATED:20250314T172933Z
LAST-MODIFIED:20250314T173407Z
UID:191-1743246000-1743274800@rumsyndicate.live
SUMMARY:Recording
DESCRIPTION:
URL:https://rumsyndicate.live/index.php/event/recording/
LOCATION:Underground Sounds\, 103 E 130th Ave\, Tampa\, Flo\, 33614\, United States
CATEGORIES:Recording
END:VEVENT
BEGIN:VEVENT
DTSTART;TZID=America/New_York:20250316T150000
DTEND;TZID=America/New_York:20250316T163000
DTSTAMP:20260420T182618
CREATED:20250314T172628Z
LAST-MODIFIED:20250314T172628Z
UID:189-1742137200-1742142600@rumsyndicate.live
SUMMARY:Unavailable
DESCRIPTION:
URL:https://rumsyndicate.live/index.php/event/unavailable-8/
LOCATION:FL
END:VEVENT
BEGIN:VEVENT
DTSTART;TZID=America/New_York:20250315T200000
DTEND;TZID=America/New_York:20250315T230000
DTSTAMP:20260420T182618
CREATED:20250113T192217Z
LAST-MODIFIED:20250314T172443Z
UID:157-1742068800-1742079600@rumsyndicate.live
SUMMARY:Tommy & Mimi LIVE at Nolan's Pub
DESCRIPTION:Tommy & Mimi are back! Come to Nolan’s Pub and grab a beer or two while we provide the tunes! This laid-back bar is perfect for watching sports\, playing games\, and shouting out requests. See you there!
URL:https://rumsyndicate.live/index.php/event/tommy-mimi-live-at-nolans-pub/
LOCATION:Nolan’s Pub\, 230 Main St\, Safety Harbor\, FL\, 34695\, United States
CATEGORIES:Live Music
ATTACH;FMTTYPE=image/png:https://rumsyndicate.live/wp-content/uploads/2025/01/Nolans_20250125_131813_0000.png
END:VEVENT
BEGIN:VEVENT
DTSTART;TZID=America/New_York:20250314T180000
DTEND;TZID=America/New_York:20250314T210000
DTSTAMP:20260420T182618
CREATED:20250113T190542Z
LAST-MODIFIED:20250314T172326Z
UID:152-1741975200-1741986000@rumsyndicate.live
SUMMARY:The Rum Syndicate LIVE at Sunset Grille
DESCRIPTION:
URL:https://rumsyndicate.live/index.php/event/the-rum-syndicate-live-at-sunset-grille-3/
LOCATION:Sunset Grille\, 2996 Dr M.L.K Jr St N\, St Petersburg\, FL\, 33704\, United States
CATEGORIES:Live Music
ATTACH;FMTTYPE=image/png:https://rumsyndicate.live/wp-content/uploads/2025/01/Sunset-Grille-_20250125_131322_0000.png
END:VEVENT
BEGIN:VEVENT
DTSTART;TZID=America/New_York:20250307T200000
DTEND;TZID=America/New_York:20250307T233000
DTSTAMP:20260420T182618
CREATED:20250113T190251Z
LAST-MODIFIED:20250113T190251Z
UID:150-1741377600-1741390200@rumsyndicate.live
SUMMARY:Unavailable
DESCRIPTION:
URL:https://rumsyndicate.live/index.php/event/unavailable-7/
LOCATION:FL
END:VEVENT
BEGIN:VEVENT
DTSTART;TZID=America/New_York:20250301T200000
DTEND;TZID=America/New_York:20250301T233000
DTSTAMP:20260420T182618
CREATED:20250113T190132Z
LAST-MODIFIED:20250113T190132Z
UID:148-1740859200-1740871800@rumsyndicate.live
SUMMARY:Unavailable
DESCRIPTION:
URL:https://rumsyndicate.live/index.php/event/unavailable-6/
LOCATION:FL
END:VEVENT
BEGIN:VEVENT
DTSTART;TZID=America/New_York:20250214T180000
DTEND;TZID=America/New_York:20250214T210000
DTSTAMP:20260420T182618
CREATED:20241226T190945Z
LAST-MODIFIED:20250113T191750Z
UID:109-1739556000-1739566800@rumsyndicate.live
SUMMARY:The Rum Syndicate LIVE at Sunset Grille
DESCRIPTION:It’s Valentine’s Day and we’re gonna serenade you! Come to Sunset Grille and enjoy a night of inexpensive drinks\, amazing food\, and rockabilly by yours truly.\n\nSee you there! 💘💘💘\n\nPlease note the event is weather-dependent as it is an outdoor stage.
URL:https://rumsyndicate.live/index.php/event/the-rum-syndicate-live-at-sunset-grille-2/
LOCATION:Sunset Grille\, 2996 Dr M.L.K Jr St N\, St Petersburg\, FL\, 33704\, United States
CATEGORIES:Live Music
ATTACH;FMTTYPE=image/png:https://rumsyndicate.live/wp-content/uploads/2024/12/Sunset-Grille-_20250113_125427_0000.png
END:VEVENT
BEGIN:VEVENT
DTSTART;TZID=America/New_York:20250209T150000
DTEND;TZID=America/New_York:20250209T170000
DTSTAMP:20260420T182618
CREATED:20250125T025430Z
LAST-MODIFIED:20250125T025430Z
UID:164-1739113200-1739120400@rumsyndicate.live
SUMMARY:Private Party
DESCRIPTION:
URL:https://rumsyndicate.live/index.php/event/private-party/
LOCATION:FL
CATEGORIES:Private Party
END:VEVENT
BEGIN:VEVENT
DTSTART;TZID=America/New_York:20250207T190000
DTEND;TZID=America/New_York:20250207T220000
DTSTAMP:20260420T182618
CREATED:20250113T185956Z
LAST-MODIFIED:20250113T185956Z
UID:146-1738954800-1738965600@rumsyndicate.live
SUMMARY:Unavailable
DESCRIPTION:
URL:https://rumsyndicate.live/index.php/event/unavailable-5/
LOCATION:FL
END:VEVENT
BEGIN:VEVENT
DTSTART;TZID=America/New_York:20250131T190000
DTEND;TZID=America/New_York:20250131T220000
DTSTAMP:20260420T182618
CREATED:20241226T190353Z
LAST-MODIFIED:20250113T192752Z
UID:103-1738350000-1738360800@rumsyndicate.live
SUMMARY:Tommy & Mimi LIVE at The HONU
DESCRIPTION:It’s Tommy and Mimi’s trek to Dunedin to play the gorgeous courtyard at the HONU. Join them as they play an eclectic mix of music from various genres and decades while you enjoy amazing food and the best craft cocktails in town.\nThe fun starts at 7 pm\, so be sure to grab your tables early!
URL:https://rumsyndicate.live/index.php/event/tommy-mimi-live-at-the-honu-2/
LOCATION:The Honu\, 516 Grant Street\, Dunedin\, FL\, 34698\, United States
CATEGORIES:Live Music
ATTACH;FMTTYPE=image/png:https://rumsyndicate.live/wp-content/uploads/2024/12/Honu-IG_20250105_213552_0000.png
END:VEVENT
BEGIN:VEVENT
DTSTART;TZID=America/New_York:20250119T180000
DTEND;TZID=America/New_York:20250119T220000
DTSTAMP:20260420T182618
CREATED:20241224T170929Z
LAST-MODIFIED:20241224T170929Z
UID:86-1737309600-1737324000@rumsyndicate.live
SUMMARY:Unavailable
DESCRIPTION:
URL:https://rumsyndicate.live/index.php/event/unavailable-3/
LOCATION:FL
END:VEVENT
BEGIN:VEVENT
DTSTART;VALUE=DATE:20250118
DTEND;VALUE=DATE:20250119
DTSTAMP:20260420T182618
CREATED:20241224T170842Z
LAST-MODIFIED:20241224T171022Z
UID:84-1737165600-1737244799@rumsyndicate.live
SUMMARY:Unavailable
DESCRIPTION:
URL:https://rumsyndicate.live/index.php/event/unavailable-2/
LOCATION:FL
END:VEVENT
BEGIN:VEVENT
DTSTART;TZID=America/New_York:20250117T200000
DTEND;TZID=America/New_York:20250118T000000
DTSTAMP:20260420T182618
CREATED:20241224T165947Z
LAST-MODIFIED:20250113T190840Z
UID:80-1737144000-1737158400@rumsyndicate.live
SUMMARY:The Rum Syndicate LIVE at Banana Wind
DESCRIPTION:The Rum Syndicate is making the trek to Zephyrhills to entertain you! This place has an amazing stage\, room to dance\, and cold drinks. What more could you ask for? Fun starts at 8 pm. Be there.
URL:https://rumsyndicate.live/index.php/event/the-rum-syndicate-live-at-banana-wind/
LOCATION:Banana Wind\, 5536 Gall Blvd\, Zephyrhills\, FL\, 33542\, United States
END:VEVENT
BEGIN:VEVENT
DTSTART;TZID=America/New_York:20250110T180000
DTEND;TZID=America/New_York:20250110T210000
DTSTAMP:20260420T182618
CREATED:20241224T170739Z
LAST-MODIFIED:20241224T170739Z
UID:82-1736532000-1736542800@rumsyndicate.live
SUMMARY:The Rum Syndicate LIVE at Sunset Grille
DESCRIPTION:Tommy August & the Rum Syndicate are back at Sunset Grille for a fun night of rockabilly\, surf\, and psychobilly you soon won’t forget. come for the inexpensive drinks\, amazing food\, and us!\nPlease note the event is weather-dependent as it is an outdoor stage.
URL:https://rumsyndicate.live/index.php/event/the-rum-syndicate-live-at-sunset-grille/
LOCATION:FL
END:VEVENT
END:VCALENDAR