BEGIN:VCALENDAR
VERSION:2.0
PRODID:-//The Rum Syndicate - ECPv6.15.17.1//NONSGML v1.0//EN
CALSCALE:GREGORIAN
METHOD:PUBLISH
X-ORIGINAL-URL:https://rumsyndicate.live
X-WR-CALDESC:Events for The Rum Syndicate
REFRESH-INTERVAL;VALUE=DURATION:PT1H
X-Robots-Tag:noindex
X-PUBLISHED-TTL:PT1H
BEGIN:VTIMEZONE
TZID:America/New_York
BEGIN:DAYLIGHT
TZOFFSETFROM:-0500
TZOFFSETTO:-0400
TZNAME:EDT
DTSTART:20250309T070000
END:DAYLIGHT
BEGIN:STANDARD
TZOFFSETFROM:-0400
TZOFFSETTO:-0500
TZNAME:EST
DTSTART:20251102T060000
END:STANDARD
BEGIN:DAYLIGHT
TZOFFSETFROM:-0500
TZOFFSETTO:-0400
TZNAME:EDT
DTSTART:20260308T070000
END:DAYLIGHT
BEGIN:STANDARD
TZOFFSETFROM:-0400
TZOFFSETTO:-0500
TZNAME:EST
DTSTART:20261101T060000
END:STANDARD
BEGIN:DAYLIGHT
TZOFFSETFROM:-0500
TZOFFSETTO:-0400
TZNAME:EDT
DTSTART:20270314T070000
END:DAYLIGHT
BEGIN:STANDARD
TZOFFSETFROM:-0400
TZOFFSETTO:-0500
TZNAME:EST
DTSTART:20271107T060000
END:STANDARD
END:VTIMEZONE
BEGIN:VEVENT
DTSTART;TZID=America/New_York:20260425T170000
DTEND;TZID=America/New_York:20260425T210000
DTSTAMP:20260420T032238
CREATED:20260402T162232Z
LAST-MODIFIED:20260402T162232Z
UID:523-1777136400-1777150800@rumsyndicate.live
SUMMARY:Tommy August LIVE at Whiskey Joe's Port Richey
DESCRIPTION:Tommy August is back at Whiskey Joe’s Port Richey! Come for Tommy’s fun and eclectic mix of songs that will be sure to get you singing along… stay for the awesome food\, great drinks\, and amazing staff. See you there!
URL:https://rumsyndicate.live/index.php/event/tommy-august-live-at-whiskey-joes-port-richey/
LOCATION:Whiskey Joe’s Port Richey\, 7835 Bayview St\, Port Richey\, FL\, 34668\, United States
CATEGORIES:Live Music,Solo
ATTACH;FMTTYPE=image/png:https://rumsyndicate.live/wp-content/uploads/2026/04/Post-de-Facebook-minimalista-con-frase-inspiradora.png
END:VEVENT
BEGIN:VEVENT
DTSTART;TZID=America/New_York:20260503T110000
DTEND;TZID=America/New_York:20260503T150000
DTSTAMP:20260420T032238
CREATED:20260406T190145Z
LAST-MODIFIED:20260406T190145Z
UID:530-1777806000-1777820400@rumsyndicate.live
SUMMARY:The Rum Syndicate LIVE at Mamapalooza
DESCRIPTION:MamaPalooza 2026: Rock Your Baby 🎸👶 \n  \nJoin us for MamaPalooza\, a fun-filled family festival celebrating mothers\, caregivers\, and families! \n  \nHosted by the Museum of Motherhood (MoM)\, this vibrant community event brings together live music\, kids activities\, local vendors\, and valuable resources for families — all in one place. \n  \n📅 Event Details \n  \nSunday\, May 3\, 2026 \n11:00 AM – 4:00 PM \n  \n📍 Warehouse Arts District ArtsXchange Campus \n  \n🎉 What to Expect \n  \n🎸 Live music including bands from St. Pete Girls Rock \n🩺 Free health screenings from BayCare Mobile Health \n🛍 Local vendors and family-focused businesses \n🎨 Interactive activities for kids \n🎟 High-value raffle to support MoM (need NOT be present to win) \n  \n🍼 New This Year \n  \nWe’re excited to introduce a Community Baby Shower\, providing newborn and postpartum essentials to expectant and new parents in our community. \n  \nMore announcements coming soon! 🎉 \n  \nWe’ll be revealing our stage lineup\, musical acts\, vendors\, and community partners over the coming weeks. Be sure to click “Interested” or “Going” to get updates as we announce the amazing people and organizations joining this year’s MamaPalooza. \n  \nBring the whole family and celebrate with us!
URL:https://rumsyndicate.live/index.php/event/the-rum-syndicate-live-at-mamapalooza-2/
LOCATION:Arts Warehouse District\, 515 22nd St. S.\, St. Petersburg\, FL\, 33712\, United States
CATEGORIES:Booked,Live Music,The Rum Syndicate
ATTACH;FMTTYPE=image/jpeg:https://rumsyndicate.live/wp-content/uploads/2026/04/FB_IMG_1775501396288.jpg
END:VEVENT
BEGIN:VEVENT
DTSTART;TZID=America/New_York:20260508T183000
DTEND;TZID=America/New_York:20260508T213000
DTSTAMP:20260420T032238
CREATED:20260406T184830Z
LAST-MODIFIED:20260406T184830Z
UID:528-1778265000-1778275800@rumsyndicate.live
SUMMARY:The Rum Syndicate LIVE at Sunset Grille
DESCRIPTION:Tommy August & the Rum Syndicate are back at Sunset Grille for a fun night of rockabilly\, surf\, and psychobilly you soon won’t forget. Come for the inexpensive drinks\, amazing food\, and us! We’re every second Friday\, so mark those calendars. \n  \nWe’re at a new later time\, so take note. \n  \nPlease note the event is weather-dependent as it is an outdoor stage.
URL:https://rumsyndicate.live/index.php/event/the-rum-syndicate-live-at-sunset-grille-15/
LOCATION:Sunset Grille\, 2996 Dr M.L.K Jr St N\, St Petersburg\, FL\, 33704\, United States
CATEGORIES:Live Music,The Rum Syndicate
ATTACH;FMTTYPE=image/png:https://rumsyndicate.live/wp-content/uploads/2025/12/Sunset-Nov_20251215_170752_0000.png
END:VEVENT
END:VCALENDAR