BEGIN:VCALENDAR
VERSION:2.0
PRODID:-//The Rum Syndicate - ECPv6.15.17.1//NONSGML v1.0//EN
CALSCALE:GREGORIAN
METHOD:PUBLISH
X-WR-CALNAME:The Rum Syndicate
X-ORIGINAL-URL:https://rumsyndicate.live
X-WR-CALDESC:Events for The Rum Syndicate
REFRESH-INTERVAL;VALUE=DURATION:PT1H
X-Robots-Tag:noindex
X-PUBLISHED-TTL:PT1H
BEGIN:VTIMEZONE
TZID:America/New_York
BEGIN:DAYLIGHT
TZOFFSETFROM:-0500
TZOFFSETTO:-0400
TZNAME:EDT
DTSTART:20240310T070000
END:DAYLIGHT
BEGIN:STANDARD
TZOFFSETFROM:-0400
TZOFFSETTO:-0500
TZNAME:EST
DTSTART:20241103T060000
END:STANDARD
BEGIN:DAYLIGHT
TZOFFSETFROM:-0500
TZOFFSETTO:-0400
TZNAME:EDT
DTSTART:20250309T070000
END:DAYLIGHT
BEGIN:STANDARD
TZOFFSETFROM:-0400
TZOFFSETTO:-0500
TZNAME:EST
DTSTART:20251102T060000
END:STANDARD
BEGIN:DAYLIGHT
TZOFFSETFROM:-0500
TZOFFSETTO:-0400
TZNAME:EDT
DTSTART:20260308T070000
END:DAYLIGHT
BEGIN:STANDARD
TZOFFSETFROM:-0400
TZOFFSETTO:-0500
TZNAME:EST
DTSTART:20261101T060000
END:STANDARD
END:VTIMEZONE
BEGIN:VEVENT
DTSTART;TZID=America/New_York:20250628T200000
DTEND;TZID=America/New_York:20250628T233000
DTSTAMP:20260420T051859
CREATED:20250618T141147Z
LAST-MODIFIED:20250618T141147Z
UID:297-1751140800-1751153400@rumsyndicate.live
SUMMARY:The Vindicators at Brass Mug
DESCRIPTION:The Vindicators
URL:https://rumsyndicate.live/index.php/event/the-vindicators-at-brass-mug/
LOCATION:Brass Mug\, 1450 Skipper Rd\, Tampa\, FL\, 33613\, United States
CATEGORIES:Live Music,The Vindicators
ATTACH;FMTTYPE=image/jpeg:https://rumsyndicate.live/wp-content/uploads/2025/06/IMG_20250526_140723.jpg
END:VEVENT
END:VCALENDAR