BEGIN:VCALENDAR
VERSION:2.0
PRODID:-//The Rum Syndicate - ECPv6.15.17.1//NONSGML v1.0//EN
CALSCALE:GREGORIAN
METHOD:PUBLISH
X-ORIGINAL-URL:https://rumsyndicate.live
X-WR-CALDESC:Events for The Rum Syndicate
REFRESH-INTERVAL;VALUE=DURATION:PT1H
X-Robots-Tag:noindex
X-PUBLISHED-TTL:PT1H
BEGIN:VTIMEZONE
TZID:America/New_York
BEGIN:DAYLIGHT
TZOFFSETFROM:-0500
TZOFFSETTO:-0400
TZNAME:EDT
DTSTART:20240310T070000
END:DAYLIGHT
BEGIN:STANDARD
TZOFFSETFROM:-0400
TZOFFSETTO:-0500
TZNAME:EST
DTSTART:20241103T060000
END:STANDARD
BEGIN:DAYLIGHT
TZOFFSETFROM:-0500
TZOFFSETTO:-0400
TZNAME:EDT
DTSTART:20250309T070000
END:DAYLIGHT
BEGIN:STANDARD
TZOFFSETFROM:-0400
TZOFFSETTO:-0500
TZNAME:EST
DTSTART:20251102T060000
END:STANDARD
BEGIN:DAYLIGHT
TZOFFSETFROM:-0500
TZOFFSETTO:-0400
TZNAME:EDT
DTSTART:20260308T070000
END:DAYLIGHT
BEGIN:STANDARD
TZOFFSETFROM:-0400
TZOFFSETTO:-0500
TZNAME:EST
DTSTART:20261101T060000
END:STANDARD
END:VTIMEZONE
BEGIN:VEVENT
DTSTART;TZID=America/New_York:20251010T183000
DTEND;TZID=America/New_York:20251010T213000
DTSTAMP:20260420T112058
CREATED:20250917T182744Z
LAST-MODIFIED:20250917T182744Z
UID:376-1760121000-1760131800@rumsyndicate.live
SUMMARY:The Rum Syndicate LIVE at Sunset Grille
DESCRIPTION:Tommy August & the Rum Syndicate are back at Sunset Grille for a fun night of rockabilly\, surf\, and psychobilly you soon won’t forget. Come for the inexpensive drinks\, amazing food\, and us!\n\nWe’re at a new later time for the summer months\, so take note.\n\nPlease note the event is weather-dependent as it is an outdoor stage.
URL:https://rumsyndicate.live/index.php/event/the-rum-syndicate-live-at-sunset-grille-9/
LOCATION:Sunset Grille\, 2996 Dr M.L.K Jr St N\, St Petersburg\, FL\, 33704\, United States
CATEGORIES:Booked,Live Music,The Rum Syndicate
END:VEVENT
BEGIN:VEVENT
DTSTART;TZID=America/New_York:20251017T200000
DTEND;TZID=America/New_York:20251017T230000
DTSTAMP:20260420T112058
CREATED:20251008T144445Z
LAST-MODIFIED:20251008T144445Z
UID:384-1760731200-1760742000@rumsyndicate.live
SUMMARY:The Rum Syndicate DEBUT at Nolan's Pub
DESCRIPTION:The Rum Syndicate makes their debut at local favorite Nolan’s Pub! Come join us as we play a fun blend of rockabilly\, surf\, originals and more. It’s Third Friday in downtown Safety Harbor\, so feel free to grab a drink\, walk around and make your way back for all the fun! \n  \nSee you there! 🍻☘️
URL:https://rumsyndicate.live/index.php/event/the-rum-syndicate-debut-at-nolans-pub/
LOCATION:Nolan’s Pub\, 230 Main St\, Safety Harbour\, FL\, 34695\, United States
CATEGORIES:Booked,Live Music,The Rum Syndicate
END:VEVENT
BEGIN:VEVENT
DTSTART;TZID=America/New_York:20251031T200000
DTEND;TZID=America/New_York:20251031T230000
DTSTAMP:20260420T112058
CREATED:20250917T183548Z
LAST-MODIFIED:20251008T150206Z
UID:379-1761940800-1761951600@rumsyndicate.live
SUMMARY:Tommy & Mimi LIVE at Nolan's Pub: Halloween Edition
DESCRIPTION:Tommy & Mimi are back! Come to Nolan’s Pub and grab a beer or two while we provide the tunes! This laid-back bar is perfect for watching sports\, playing games\, and shouting out requests. See you there!
URL:https://rumsyndicate.live/index.php/event/tommy-mimi-live-at-nolans-pun-halloween-edition/
LOCATION:Nolan’s Pub\, 230 Main St\, Safety Harbour\, FL\, 34695\, United States
CATEGORIES:acoustic duo,Booked,Live Music
END:VEVENT
END:VCALENDAR