BEGIN:VCALENDAR
VERSION:2.0
PRODID:-//The Rum Syndicate - ECPv6.15.17.1//NONSGML v1.0//EN
CALSCALE:GREGORIAN
METHOD:PUBLISH
X-ORIGINAL-URL:https://rumsyndicate.live
X-WR-CALDESC:Events for The Rum Syndicate
REFRESH-INTERVAL;VALUE=DURATION:PT1H
X-Robots-Tag:noindex
X-PUBLISHED-TTL:PT1H
BEGIN:VTIMEZONE
TZID:America/New_York
BEGIN:DAYLIGHT
TZOFFSETFROM:-0500
TZOFFSETTO:-0400
TZNAME:EDT
DTSTART:20240310T070000
END:DAYLIGHT
BEGIN:STANDARD
TZOFFSETFROM:-0400
TZOFFSETTO:-0500
TZNAME:EST
DTSTART:20241103T060000
END:STANDARD
BEGIN:DAYLIGHT
TZOFFSETFROM:-0500
TZOFFSETTO:-0400
TZNAME:EDT
DTSTART:20250309T070000
END:DAYLIGHT
BEGIN:STANDARD
TZOFFSETFROM:-0400
TZOFFSETTO:-0500
TZNAME:EST
DTSTART:20251102T060000
END:STANDARD
BEGIN:DAYLIGHT
TZOFFSETFROM:-0500
TZOFFSETTO:-0400
TZNAME:EDT
DTSTART:20260308T070000
END:DAYLIGHT
BEGIN:STANDARD
TZOFFSETFROM:-0400
TZOFFSETTO:-0500
TZNAME:EST
DTSTART:20261101T060000
END:STANDARD
BEGIN:DAYLIGHT
TZOFFSETFROM:-0500
TZOFFSETTO:-0400
TZNAME:EDT
DTSTART:20270314T070000
END:DAYLIGHT
BEGIN:STANDARD
TZOFFSETFROM:-0400
TZOFFSETTO:-0500
TZNAME:EST
DTSTART:20271107T060000
END:STANDARD
END:VTIMEZONE
BEGIN:VEVENT
DTSTART;TZID=America/New_York:20260404T140000
DTEND;TZID=America/New_York:20260404T180000
DTSTAMP:20260420T032719
CREATED:20260331T141246Z
LAST-MODIFIED:20260402T194134Z
UID:507-1775311200-1775325600@rumsyndicate.live
SUMMARY:Bock Fest with The Rum Syndicate
DESCRIPTION:We’re making our German American Society debut for Bock Fest! it’s all things beer and music. Come join us for a wonderful time. \nWyatt hasn’t been feeling the best so this one is Tommy & Mimi (acoustic duo) for the first two hours\, then The Rum Syndicate duo for that last two. We promise the same high energy and two shows in one! See you there!
URL:https://rumsyndicate.live/index.php/event/brok-fest-with-the-rum-syndicate/
LOCATION:German American Society\, 8098 66th St N\, Pinellas Park\, FL\, 33781\, United States
CATEGORIES:acoustic duo,Festivals,The Rum Syndicate,Tommy & Mimi
ATTACH;FMTTYPE=image/jpeg:https://rumsyndicate.live/wp-content/uploads/2026/03/FB_IMG_1774365701007.jpg
END:VEVENT
BEGIN:VEVENT
DTSTART;TZID=America/New_York:20260124T130000
DTEND;TZID=America/New_York:20260124T160000
DTSTAMP:20260420T032719
CREATED:20260106T201947Z
LAST-MODIFIED:20260106T202442Z
UID:481-1769259600-1769270400@rumsyndicate.live
SUMMARY:The Rum Syndicate LIVE at Taco Fest
DESCRIPTION:We’re coming to you live from Pinellas Taco Fest! Taco and pepper contests\, a plethora of vendors and food trucks\, and live music all day are what’s in store for this year’s Taco Fest. We got the stage on day one of the fest at 1pm. See you there!
URL:https://rumsyndicate.live/index.php/event/the-rum-syndicate-live-at-taco-fest/
LOCATION:England Brothers Park\, 5010 81st Ave N\, Pinellas Park\, FL\, 33781\, United States
CATEGORIES:Booked,Festivals,Live Music,The Rum Syndicate
ATTACH;FMTTYPE=image/jpeg:https://rumsyndicate.live/wp-content/uploads/2026/01/FB_IMG_1767628884846.jpg
END:VEVENT
BEGIN:VEVENT
DTSTART;TZID=America/New_York:20251109T123000
DTEND;TZID=America/New_York:20251109T150000
DTSTAMP:20260420T032719
CREATED:20251017T182345Z
LAST-MODIFIED:20251017T182345Z
UID:401-1762691400-1762700400@rumsyndicate.live
SUMMARY:The Rum Syndicate LIVE at Tarpon Springs Seafood Festival
DESCRIPTION:The Rum Syndicate is back at it for their second appearance at the Tarpon Springs Seafood Festival! Loads of delicious food and vendors in an idyllic setting\, you won’t want to miss this. Come join us!
URL:https://rumsyndicate.live/index.php/event/the-rum-syndicate-live-at-tarpon-springs-seafood-festival/
LOCATION:Sponge Docks Tarpon Springs\, 735 Dodecanese Blvd.\, Tarpon Springs\, FL\, 34689\, United States
CATEGORIES:Booked,Festivals,Live Music,The Rum Syndicate
ATTACH;FMTTYPE=image/png:https://rumsyndicate.live/wp-content/uploads/2025/10/THE-RUM-SYNDICATE_20251017_140706_0000.png
END:VEVENT
BEGIN:VEVENT
DTSTART;TZID=America/New_York:20250705T190000
DTEND;TZID=America/New_York:20250705T233000
DTSTAMP:20260420T032719
CREATED:20250618T142423Z
LAST-MODIFIED:20250618T142423Z
UID:303-1751742000-1751758200@rumsyndicate.live
SUMMARY:Indie-Pendence at the Post
DESCRIPTION:Get your grills and your dancing shoes ready\, because INDIE*PENDENCE BBQ is back and better than ever! Join us for the 4th annual INDIE*PENDENCE BBQ at VFW 39 at 2599 Central Ave N\, St. Petersburg\, FL 33713 on SAT July 5th the day after Independence Day. \n  \nThis summer extravaganza is filled with everything you need for a good time: hot BBQ by the amazing NEW YORK BBQ & CATERING! There are going to be local artists showcasing their work\, Local vendors with awesome merch. We also have non-stop music from top DJs and bands like music from: \n  \nThe Rum Syndicate\, Guilty by Design\, Pangea Gang Feat.Esara + Know Justice\, Steph Perez\, DJ Swankadelic\, Lina Simmons\, PHAZEGAWD \, Code:Savi\, Mothman\, AMPLI- SABOTEUR\, Selective Hearing\, John Lowe + Betamaxdj! on both indoor and outdoor stages! \n  \nWe’re honored to offer free entry to all First Responders\, Fire Rescue\, Ems\, + active duty service members and veterans all night with I.D. and Free FROM 4PM- 9pm for everyone! $15 from 9pm to close for general public. Come celebrate the up coming Independence Day in style with us at INDIE*PENDENCE BBQ. The best part? It’s all helping our Local VFW post with their upgrades and ongoing repair efforts! \n  \nSpecial thanks to our sponsor’s\, \n  \nNo Vacancy Clothing Company\, Good Carma\, The Sweet Sisters General Store\, Mel’s Spells\, New York BBQ and Catering\, WWW.TEK-NIQUE.COM\, FULL TIME GEEKS\, LIFE UNPLUGGED\, LIMITLESS CREATIVE\, 3 WOLVES STREETWEAR & www.goldentouchmotivational.com\, www.shamrock-hollow-farms.com \n  \nSo grab your friends and family\, and get ready for a weekend filled with good music\, great art\, and mouth-watering BBQ. For more information on our venue\, pricing\, and event details\, please visit our website at \nWWW.TEK-NIQUE.COM. \n  \nWANT TO BE INVOLVED FIND OUT HOW AT WWW.TEK-NIQUE.COM \n  \nVendors spaces still Left! \n  \n1727.327.8109 \n  \n2599 Central Ave N\, \nSt. Petersburg\, FL 33713
URL:https://rumsyndicate.live/index.php/event/indie-pendence-at-the-post/
LOCATION:VFW Post 39\, 2599 Central Avenue\, St. Petersburg\, FL\, 33713\, United States
CATEGORIES:Festivals,Live Music,The Rum Syndicate
ATTACH;FMTTYPE=image/jpeg:https://rumsyndicate.live/wp-content/uploads/2025/06/FB_IMG_1749671411651.jpg
END:VEVENT
BEGIN:VEVENT
DTSTART;TZID=America/New_York:20250504T143000
DTEND;TZID=America/New_York:20250504T153000
DTSTAMP:20260420T032719
CREATED:20250410T213021Z
LAST-MODIFIED:20250410T213021Z
UID:240-1746369000-1746372600@rumsyndicate.live
SUMMARY:The Rum Syndicate LIVE at Mamapalooza
DESCRIPTION:Join us for an afternoon of fun\, good\, art\, shopping\, and live music! Celebrate all things mom. Well be taking the stage at 2:30. See you there!
URL:https://rumsyndicate.live/index.php/event/the-rum-syndicate-live-at-mamapalooza/
LOCATION:Fairgrounds St. Pete\, 2606 Fairfield Ave\, St. Petersburg\, FL\, 33712\, United States
CATEGORIES:Festivals,Live Music
ATTACH;FMTTYPE=image/png:https://rumsyndicate.live/wp-content/uploads/2025/04/mamapalooza_fb_24.png
END:VEVENT
END:VCALENDAR