BEGIN:VCALENDAR
VERSION:2.0
PRODID:-//The Rum Syndicate - ECPv6.15.17.1//NONSGML v1.0//EN
CALSCALE:GREGORIAN
METHOD:PUBLISH
X-WR-CALNAME:The Rum Syndicate
X-ORIGINAL-URL:https://rumsyndicate.live
X-WR-CALDESC:Events for The Rum Syndicate
REFRESH-INTERVAL;VALUE=DURATION:PT1H
X-Robots-Tag:noindex
X-PUBLISHED-TTL:PT1H
BEGIN:VTIMEZONE
TZID:America/New_York
BEGIN:DAYLIGHT
TZOFFSETFROM:-0500
TZOFFSETTO:-0400
TZNAME:EDT
DTSTART:20240310T070000
END:DAYLIGHT
BEGIN:STANDARD
TZOFFSETFROM:-0400
TZOFFSETTO:-0500
TZNAME:EST
DTSTART:20241103T060000
END:STANDARD
BEGIN:DAYLIGHT
TZOFFSETFROM:-0500
TZOFFSETTO:-0400
TZNAME:EDT
DTSTART:20250309T070000
END:DAYLIGHT
BEGIN:STANDARD
TZOFFSETFROM:-0400
TZOFFSETTO:-0500
TZNAME:EST
DTSTART:20251102T060000
END:STANDARD
BEGIN:DAYLIGHT
TZOFFSETFROM:-0500
TZOFFSETTO:-0400
TZNAME:EDT
DTSTART:20260308T070000
END:DAYLIGHT
BEGIN:STANDARD
TZOFFSETFROM:-0400
TZOFFSETTO:-0500
TZNAME:EST
DTSTART:20261101T060000
END:STANDARD
END:VTIMEZONE
BEGIN:VEVENT
DTSTART;TZID=America/New_York:20250801T190000
DTEND;TZID=America/New_York:20250801T220000
DTSTAMP:20260420T160650
CREATED:20250717T175021Z
LAST-MODIFIED:20250717T175106Z
UID:336-1754074800-1754085600@rumsyndicate.live
SUMMARY:Unavailable
DESCRIPTION:
URL:https://rumsyndicate.live/index.php/event/unavailable-15/
LOCATION:FL
CATEGORIES:Booked
END:VEVENT
BEGIN:VEVENT
DTSTART;TZID=America/New_York:20250808T183000
DTEND;TZID=America/New_York:20250808T213000
DTSTAMP:20260420T160650
CREATED:20250717T175629Z
LAST-MODIFIED:20250717T175629Z
UID:339-1754677800-1754688600@rumsyndicate.live
SUMMARY:The Rum Syndicate LIVE at Sunset Grille
DESCRIPTION:Tommy August & the Rum Syndicate are back at Sunset Grille for a fun night of rockabilly\, surf\, and psychobilly you soon won’t forget. Come for the inexpensive drinks\, amazing food\, and us!\n\nWe’re at a new later time for the summer months\, so take note.\n\nPlease note the event is weather-dependent as it is an outdoor stage.
URL:https://rumsyndicate.live/index.php/event/the-rum-syndicate-live-at-sunset-grille-7/
LOCATION:Sunset Grille\, 2996 Dr M.L.K Jr St N\, St Petersburg\, FL\, 33704\, United States
CATEGORIES:Booked,Live Music,The Rum Syndicate
END:VEVENT
BEGIN:VEVENT
DTSTART;TZID=America/New_York:20250809T200000
DTEND;TZID=America/New_York:20250809T230000
DTSTAMP:20260420T160650
CREATED:20250717T180016Z
LAST-MODIFIED:20250717T180016Z
UID:342-1754769600-1754780400@rumsyndicate.live
SUMMARY:Tommy & Mimi LIVE at Nolan's Pub
DESCRIPTION:Tommy & Mimi are back! Come to Nolan’s Pub and grab a beer or two while we provide the tunes! This laid-back bar is perfect for watching sports\, playing games\, and shouting out requests. See you there!
URL:https://rumsyndicate.live/index.php/event/tommy-mimi-live-at-nolans-pub-2/
LOCATION:Nolan’s Pub\, 230 Main St\, Safety Harbour\, FL\, 34695\, United States
CATEGORIES:acoustic duo,Booked,Live Music
END:VEVENT
BEGIN:VEVENT
DTSTART;TZID=America/New_York:20250815T200000
DTEND;TZID=America/New_York:20250815T233000
DTSTAMP:20260420T160650
CREATED:20250717T181753Z
LAST-MODIFIED:20250717T181753Z
UID:351-1755288000-1755300600@rumsyndicate.live
SUMMARY:The Rum Syndicate LIVE at Banana Wind
DESCRIPTION:The Rum Syndicate is making the trek to Zephyrhills to entertain you! This place has an amazing stage\, room to dance\, and cold drinks. What more could you ask for? Fun starts at 8 pm. Be there.
URL:https://rumsyndicate.live/index.php/event/the-rum-syndicate-live-at-banana-wind-3/
LOCATION:Banana Wind\, 5536 Gall Blvd\, Zephyrhills\, FL\, 33542\, United States
CATEGORIES:Booked,Live Music,The Rum Syndicate
END:VEVENT
BEGIN:VEVENT
DTSTART;TZID=America/New_York:20250823T190000
DTEND;TZID=America/New_York:20250823T220000
DTSTAMP:20260420T160650
CREATED:20250717T181145Z
LAST-MODIFIED:20250717T181145Z
UID:348-1755975600-1755986400@rumsyndicate.live
SUMMARY:Tommy & Mimi LIVE at The HONU
DESCRIPTION:It’s Tommy and Mimi’s trek to Dunedin to play the gorgeous courtyard at the HONU. Join them as they play an eclectic mix of music from various genres and decades while you enjoy amazing food and the best craft cocktails in town.\n\nPlease note that this event is weather-dependent. Mother Nature makes the rules.\n\nThe fun starts at 7 pm\, so be sure to grab your tables early!
URL:https://rumsyndicate.live/index.php/event/tommy-mimi-live-at-the-honu-5/
LOCATION:The Honu\, 516 Grant Street\, Dunedin\, FL\, 34698\, United States
CATEGORIES:acoustic duo,Booked,Live Music
ATTACH;FMTTYPE=image/png:https://rumsyndicate.live/wp-content/uploads/2025/07/Tommy-Mimi.png
END:VEVENT
END:VCALENDAR