BEGIN:VCALENDAR
VERSION:2.0
PRODID:-//The Rum Syndicate - ECPv6.15.17.1//NONSGML v1.0//EN
CALSCALE:GREGORIAN
METHOD:PUBLISH
X-ORIGINAL-URL:https://rumsyndicate.live
X-WR-CALDESC:Events for The Rum Syndicate
REFRESH-INTERVAL;VALUE=DURATION:PT1H
X-Robots-Tag:noindex
X-PUBLISHED-TTL:PT1H
BEGIN:VTIMEZONE
TZID:America/New_York
BEGIN:DAYLIGHT
TZOFFSETFROM:-0500
TZOFFSETTO:-0400
TZNAME:EDT
DTSTART:20240310T070000
END:DAYLIGHT
BEGIN:STANDARD
TZOFFSETFROM:-0400
TZOFFSETTO:-0500
TZNAME:EST
DTSTART:20241103T060000
END:STANDARD
BEGIN:DAYLIGHT
TZOFFSETFROM:-0500
TZOFFSETTO:-0400
TZNAME:EDT
DTSTART:20250309T070000
END:DAYLIGHT
BEGIN:STANDARD
TZOFFSETFROM:-0400
TZOFFSETTO:-0500
TZNAME:EST
DTSTART:20251102T060000
END:STANDARD
BEGIN:DAYLIGHT
TZOFFSETFROM:-0500
TZOFFSETTO:-0400
TZNAME:EDT
DTSTART:20260308T070000
END:DAYLIGHT
BEGIN:STANDARD
TZOFFSETFROM:-0400
TZOFFSETTO:-0500
TZNAME:EST
DTSTART:20261101T060000
END:STANDARD
BEGIN:DAYLIGHT
TZOFFSETFROM:-0500
TZOFFSETTO:-0400
TZNAME:EDT
DTSTART:20270314T070000
END:DAYLIGHT
BEGIN:STANDARD
TZOFFSETFROM:-0400
TZOFFSETTO:-0500
TZNAME:EST
DTSTART:20271107T060000
END:STANDARD
END:VTIMEZONE
BEGIN:VEVENT
DTSTART;TZID=America/New_York:20260404T140000
DTEND;TZID=America/New_York:20260404T180000
DTSTAMP:20260420T021102
CREATED:20260331T141246Z
LAST-MODIFIED:20260402T194134Z
UID:507-1775311200-1775325600@rumsyndicate.live
SUMMARY:Bock Fest with The Rum Syndicate
DESCRIPTION:We’re making our German American Society debut for Bock Fest! it’s all things beer and music. Come join us for a wonderful time. \nWyatt hasn’t been feeling the best so this one is Tommy & Mimi (acoustic duo) for the first two hours\, then The Rum Syndicate duo for that last two. We promise the same high energy and two shows in one! See you there!
URL:https://rumsyndicate.live/index.php/event/brok-fest-with-the-rum-syndicate/
LOCATION:German American Society\, 8098 66th St N\, Pinellas Park\, FL\, 33781\, United States
CATEGORIES:acoustic duo,Festivals,The Rum Syndicate,Tommy & Mimi
ATTACH;FMTTYPE=image/jpeg:https://rumsyndicate.live/wp-content/uploads/2026/03/FB_IMG_1774365701007.jpg
END:VEVENT
BEGIN:VEVENT
DTSTART;TZID=America/New_York:20260331T080000
DTEND;TZID=America/New_York:20260331T170000
DTSTAMP:20260420T021102
CREATED:20260331T140136Z
LAST-MODIFIED:20260331T140136Z
UID:504-1774944000-1774976400@rumsyndicate.live
SUMMARY:Tommy & Mimi LIVE @ Neptune Grill
DESCRIPTION:It’s Tuesday in Gulfport so you know what that means… another Tuesday Fresh Market! \n  \nWe’ll be providing tunes on what’s sure to be a gorgeous day\, while you sip a cocktail or two and have a fabulous lunch before you get back to shopping. \n  \nSee you there! 🛍🍹🌞
URL:https://rumsyndicate.live/index.php/event/tommy-mimi-live-neptune-grill/
LOCATION:Neptune Grill\, 5501 Shore Blvd S\, Gulfport\, FL\, 33707\, United States
CATEGORIES:acoustic duo,Live Music,Tommy & Mimi
ATTACH;FMTTYPE=image/png:https://rumsyndicate.live/wp-content/uploads/2026/03/Neptune-Grill-_20260331_071715_0000.png
END:VEVENT
BEGIN:VEVENT
DTSTART;TZID=America/New_York:20260130T190000
DTEND;TZID=America/New_York:20260130T220000
DTSTAMP:20260420T021102
CREATED:20260106T204027Z
LAST-MODIFIED:20260106T204027Z
UID:488-1769799600-1769810400@rumsyndicate.live
SUMMARY:Tommy & Mimi LIVE at The HONU
DESCRIPTION:It’s Tommy and Mimi’s trek to Dunedin to play the gorgeous courtyard at the HONU. Join them as they play an eclectic mix of music from various genres and decades while you enjoy amazing food and the best craft cocktails in town. \n  \nDon’t forget that this event is weather dependent. Mother nature makes the rules. \nThe fun starts at 7 pm\, so be sure to grab your tables early! 🌺🍹🎶
URL:https://rumsyndicate.live/index.php/event/tommy-mimi-live-at-the-honu-6/
LOCATION:The Honu\, 516 Grant Street\, Dunedin\, FL\, 34698\, United States
CATEGORIES:acoustic duo,Booked,Live Music,Tommy & Mimi
ATTACH;FMTTYPE=image/png:https://rumsyndicate.live/wp-content/uploads/2026/01/Honu-2_20260106_150928_0000.png
END:VEVENT
BEGIN:VEVENT
DTSTART;TZID=America/New_York:20260129T180000
DTEND;TZID=America/New_York:20260129T210000
DTSTAMP:20260420T021102
CREATED:20260106T203205Z
LAST-MODIFIED:20260106T203205Z
UID:485-1769709600-1769720400@rumsyndicate.live
SUMMARY:Tommy &  Mimi LIVE at Neptune Grill
DESCRIPTION:Tommy and Mimi are back at Neptune Grill in Gulfport. Playing a wide variety of music\, in a beautiful patio with bay views\, awesome food\, full bar\, you’re sure to have an excellent time. See you there! \n  \n  \nTommy & Mimi are a husband and wife musical duo based out of Clearwater\, FL. Tommy hails from New Jersey and Mimi is a Florida girl. Both met while living in the Virgin Islands. They began playing music together in 2009 and have had success in a multitude of projects\, both together and individually. Together\, they cover a wide variety of genres sure to fit any establishment. From The Drifters to Tom Petty\, Alanis Morrisette to Soul Asylum\, and everything in between\, they are guaranteed to get the toes tapping and people singing along. \n 
URL:https://rumsyndicate.live/index.php/event/tommy-mimi-live-at-neptune-grill/
LOCATION:Neptune Grill\, 5501 Shore Blvd S\, Gulfport\, FL\, 33707\, United States
CATEGORIES:acoustic duo,Booked,Live Music,Tommy & Mimi
ATTACH;FMTTYPE=image/png:https://rumsyndicate.live/wp-content/uploads/2026/01/Neptune-Grill-_20260106_150820_0000.png
END:VEVENT
BEGIN:VEVENT
DTSTART;TZID=America/New_York:20251226T180000
DTEND;TZID=America/New_York:20251226T210000
DTSTAMP:20260420T021102
CREATED:20251203T211341Z
LAST-MODIFIED:20251203T211341Z
UID:451-1766772000-1766782800@rumsyndicate.live
SUMMARY:Tommy & Mimi RETURN to Neptune Grill
DESCRIPTION:Tommy and Mimi are back at Neptune Grill in Gulfport. Playing a wide variety of music\, in a beautiful patio with bay views\, awesome food\, full bar\, you’re sure to have an excellent time. See you there! \nTommy & Mimi are a husband and wife musical duo based out of Clearwater\, FL. Tommy hails from New Jersey and Mimi is a Florida girl. Both met while living in the Virgin Islands. They began playing music together in 2009 and have had success in a multitude of projects\, both together and individually. Together\, they cover a wide variety of genres sure to fit any establishment. From The Drifters to Tom Petty\, Alanis Morrisette to Soul Asylum\, and everything in between\, they are guaranteed to get the toes tapping and people singing along. \n 
URL:https://rumsyndicate.live/index.php/event/tommy-mimi-return-to-neptune-grill/
LOCATION:Neptune Grill\, 5501 Shore Blvd S\, Gulfport\, FL\, 33707\, United States
CATEGORIES:acoustic duo,Booked,Live Music,Tommy & Mimi
ATTACH;FMTTYPE=image/png:https://rumsyndicate.live/wp-content/uploads/2025/12/Tommy-Mimi_20251109_193400_0000.png
END:VEVENT
BEGIN:VEVENT
DTSTART;TZID=America/New_York:20251204T160000
DTEND;TZID=America/New_York:20251204T190000
DTSTAMP:20260420T021102
CREATED:20251203T210442Z
LAST-MODIFIED:20251203T210442Z
UID:446-1764864000-1764874800@rumsyndicate.live
SUMMARY:Tommy & Mimi LIVE at BLUFIN Waterfront Grille
DESCRIPTION:We’re back at the Doubletree by Hilton Rocky Point! Come enjoy chill\, relaxing vibes at BLUFIN Waterfront Grille. Wonderful drinks\, delectable food\, and music provided by us. 🍸🍹🍷 Maybe you’ll even catch a dolphin or manatee swimming by. 🐬🌊 See you there! \n  \nParking validation provided.
URL:https://rumsyndicate.live/index.php/event/tommy-mimi-live-at-blufin-waterfront-grille/
LOCATION:BLUFIN Waterfront Grille\, 3050 N Rocky Point Dr W\, Tampa\, FL\, 33607\, United States
CATEGORIES:acoustic duo,Booked,Live Music,Tommy & Mimi
ATTACH;FMTTYPE=image/png:https://rumsyndicate.live/wp-content/uploads/2025/12/Tommy_20251126_093232_0000.png
END:VEVENT
BEGIN:VEVENT
DTSTART;TZID=America/New_York:20251031T200000
DTEND;TZID=America/New_York:20251031T230000
DTSTAMP:20260420T021102
CREATED:20250917T183548Z
LAST-MODIFIED:20251008T150206Z
UID:379-1761940800-1761951600@rumsyndicate.live
SUMMARY:Tommy & Mimi LIVE at Nolan's Pub: Halloween Edition
DESCRIPTION:Tommy & Mimi are back! Come to Nolan’s Pub and grab a beer or two while we provide the tunes! This laid-back bar is perfect for watching sports\, playing games\, and shouting out requests. See you there!
URL:https://rumsyndicate.live/index.php/event/tommy-mimi-live-at-nolans-pun-halloween-edition/
LOCATION:Nolan’s Pub\, 230 Main St\, Safety Harbour\, FL\, 34695\, United States
CATEGORIES:acoustic duo,Booked,Live Music
END:VEVENT
BEGIN:VEVENT
DTSTART;TZID=America/New_York:20250823T190000
DTEND;TZID=America/New_York:20250823T220000
DTSTAMP:20260420T021102
CREATED:20250717T181145Z
LAST-MODIFIED:20250717T181145Z
UID:348-1755975600-1755986400@rumsyndicate.live
SUMMARY:Tommy & Mimi LIVE at The HONU
DESCRIPTION:It’s Tommy and Mimi’s trek to Dunedin to play the gorgeous courtyard at the HONU. Join them as they play an eclectic mix of music from various genres and decades while you enjoy amazing food and the best craft cocktails in town.\n\nPlease note that this event is weather-dependent. Mother Nature makes the rules.\n\nThe fun starts at 7 pm\, so be sure to grab your tables early!
URL:https://rumsyndicate.live/index.php/event/tommy-mimi-live-at-the-honu-5/
LOCATION:The Honu\, 516 Grant Street\, Dunedin\, FL\, 34698\, United States
CATEGORIES:acoustic duo,Booked,Live Music
ATTACH;FMTTYPE=image/png:https://rumsyndicate.live/wp-content/uploads/2025/07/Tommy-Mimi.png
END:VEVENT
BEGIN:VEVENT
DTSTART;TZID=America/New_York:20250809T200000
DTEND;TZID=America/New_York:20250809T230000
DTSTAMP:20260420T021102
CREATED:20250717T180016Z
LAST-MODIFIED:20250717T180016Z
UID:342-1754769600-1754780400@rumsyndicate.live
SUMMARY:Tommy & Mimi LIVE at Nolan's Pub
DESCRIPTION:Tommy & Mimi are back! Come to Nolan’s Pub and grab a beer or two while we provide the tunes! This laid-back bar is perfect for watching sports\, playing games\, and shouting out requests. See you there!
URL:https://rumsyndicate.live/index.php/event/tommy-mimi-live-at-nolans-pub-2/
LOCATION:Nolan’s Pub\, 230 Main St\, Safety Harbour\, FL\, 34695\, United States
CATEGORIES:acoustic duo,Booked,Live Music
END:VEVENT
BEGIN:VEVENT
DTSTART;TZID=America/New_York:20250620T190000
DTEND;TZID=America/New_York:20250620T220000
DTSTAMP:20260420T021102
CREATED:20250430T173840Z
LAST-MODIFIED:20250430T173840Z
UID:262-1750446000-1750456800@rumsyndicate.live
SUMMARY:Tommy & Mimi LIVE at The HONU
DESCRIPTION:It’s Tommy and Mimi’s trek to Dunedin to play the gorgeous courtyard at the HONU. Join them as they play an eclectic mix of music from various genres and decades while you enjoy amazing food and the best craft cocktails in town. \nThe fun starts at 7 pm\, so be sure to grab your tables early!
URL:https://rumsyndicate.live/index.php/event/tommy-mimi-live-at-the-honu-4/
LOCATION:The Honu\, 516 Grant Street\, Dunedin\, FL\, 34698\, United States
CATEGORIES:acoustic duo,Live Music
ATTACH;FMTTYPE=image/png:https://rumsyndicate.live/wp-content/uploads/2025/04/Tommy-Mimi_20250429_140228_0000.png
END:VEVENT
BEGIN:VEVENT
DTSTART;TZID=America/New_York:20250425T190000
DTEND;TZID=America/New_York:20250425T220000
DTSTAMP:20260420T021102
CREATED:20250321T151044Z
LAST-MODIFIED:20250321T151044Z
UID:218-1745607600-1745618400@rumsyndicate.live
SUMMARY:Tommy & Mimi LIVE at the HONU
DESCRIPTION:It’s Tommy and Mimi’s trek to Dunedin to play the gorgeous courtyard at the HONU. Join them as they play an eclectic mix of music from various genres and decades while you enjoy amazing food and the best craft cocktails in town. \nThe fun starts at 7 pm\, so be sure to grab your tables early!
URL:https://rumsyndicate.live/index.php/event/tommy-mimi-live-at-the-honu-3/
LOCATION:The Honu\, 516 Grant Street\, Dunedin\, FL\, 34698\, United States
CATEGORIES:acoustic duo,Live Music
ATTACH;FMTTYPE=image/png:https://rumsyndicate.live/wp-content/uploads/2025/03/Honu-IG-1.png
END:VEVENT
END:VCALENDAR