BEGIN:VCALENDAR
VERSION:2.0
PRODID:-//The Rum Syndicate - ECPv6.15.17.1//NONSGML v1.0//EN
CALSCALE:GREGORIAN
METHOD:PUBLISH
X-ORIGINAL-URL:https://rumsyndicate.live
X-WR-CALDESC:Events for The Rum Syndicate
REFRESH-INTERVAL;VALUE=DURATION:PT1H
X-Robots-Tag:noindex
X-PUBLISHED-TTL:PT1H
BEGIN:VTIMEZONE
TZID:America/New_York
BEGIN:DAYLIGHT
TZOFFSETFROM:-0500
TZOFFSETTO:-0400
TZNAME:EDT
DTSTART:20250309T070000
END:DAYLIGHT
BEGIN:STANDARD
TZOFFSETFROM:-0400
TZOFFSETTO:-0500
TZNAME:EST
DTSTART:20251102T060000
END:STANDARD
BEGIN:DAYLIGHT
TZOFFSETFROM:-0500
TZOFFSETTO:-0400
TZNAME:EDT
DTSTART:20260308T070000
END:DAYLIGHT
BEGIN:STANDARD
TZOFFSETFROM:-0400
TZOFFSETTO:-0500
TZNAME:EST
DTSTART:20261101T060000
END:STANDARD
BEGIN:DAYLIGHT
TZOFFSETFROM:-0500
TZOFFSETTO:-0400
TZNAME:EDT
DTSTART:20270314T070000
END:DAYLIGHT
BEGIN:STANDARD
TZOFFSETFROM:-0400
TZOFFSETTO:-0500
TZNAME:EST
DTSTART:20271107T060000
END:STANDARD
END:VTIMEZONE
BEGIN:VEVENT
DTSTART;TZID=America/New_York:20260213T183000
DTEND;TZID=America/New_York:20260213T213000
DTSTAMP:20260420T033240
CREATED:20251216T163858Z
LAST-MODIFIED:20251216T163858Z
UID:479-1771007400-1771018200@rumsyndicate.live
SUMMARY:The Rum Syndicate LIVE at Sunset Grille
DESCRIPTION:Tommy August & the Rum Syndicate are back at Sunset Grille for a fun night of rockabilly\, surf\, and psychobilly you soon won’t forget. Come for the inexpensive drinks\, amazing food\, and us! We’re every second Friday\, so mark those calendars. \nWe’re at a new later time\, so take note. \nPlease note the event is weather-dependent as it is an outdoor stage.
URL:https://rumsyndicate.live/index.php/event/the-rum-syndicate-live-at-sunset-grille-13/
LOCATION:Sunset Grille\, 2996 Dr M.L.K Jr St N\, St Petersburg\, FL\, 33704\, United States
CATEGORIES:Holidays,The Rum Syndicate
ATTACH;FMTTYPE=image/png:https://rumsyndicate.live/wp-content/uploads/2025/12/Sunset-Nov_20251215_170752_0000.png
END:VEVENT
END:VCALENDAR