BEGIN:VCALENDAR
VERSION:2.0
PRODID:-//The Rum Syndicate - ECPv6.15.17.1//NONSGML v1.0//EN
CALSCALE:GREGORIAN
METHOD:PUBLISH
X-WR-CALNAME:The Rum Syndicate
X-ORIGINAL-URL:https://rumsyndicate.live
X-WR-CALDESC:Events for The Rum Syndicate
REFRESH-INTERVAL;VALUE=DURATION:PT1H
X-Robots-Tag:noindex
X-PUBLISHED-TTL:PT1H
BEGIN:VTIMEZONE
TZID:America/New_York
BEGIN:DAYLIGHT
TZOFFSETFROM:-0500
TZOFFSETTO:-0400
TZNAME:EDT
DTSTART:20240310T070000
END:DAYLIGHT
BEGIN:STANDARD
TZOFFSETFROM:-0400
TZOFFSETTO:-0500
TZNAME:EST
DTSTART:20241103T060000
END:STANDARD
BEGIN:DAYLIGHT
TZOFFSETFROM:-0500
TZOFFSETTO:-0400
TZNAME:EDT
DTSTART:20250309T070000
END:DAYLIGHT
BEGIN:STANDARD
TZOFFSETFROM:-0400
TZOFFSETTO:-0500
TZNAME:EST
DTSTART:20251102T060000
END:STANDARD
BEGIN:DAYLIGHT
TZOFFSETFROM:-0500
TZOFFSETTO:-0400
TZNAME:EDT
DTSTART:20260308T070000
END:DAYLIGHT
BEGIN:STANDARD
TZOFFSETFROM:-0400
TZOFFSETTO:-0500
TZNAME:EST
DTSTART:20261101T060000
END:STANDARD
END:VTIMEZONE
BEGIN:VEVENT
DTSTART;TZID=America/New_York:20250425T190000
DTEND;TZID=America/New_York:20250425T220000
DTSTAMP:20260420T212511
CREATED:20250321T151044Z
LAST-MODIFIED:20250321T151044Z
UID:218-1745607600-1745618400@rumsyndicate.live
SUMMARY:Tommy & Mimi LIVE at the HONU
DESCRIPTION:It’s Tommy and Mimi’s trek to Dunedin to play the gorgeous courtyard at the HONU. Join them as they play an eclectic mix of music from various genres and decades while you enjoy amazing food and the best craft cocktails in town. \nThe fun starts at 7 pm\, so be sure to grab your tables early!
URL:https://rumsyndicate.live/index.php/event/tommy-mimi-live-at-the-honu-3/
LOCATION:The Honu\, 516 Grant Street\, Dunedin\, FL\, 34698\, United States
CATEGORIES:acoustic duo,Live Music
ATTACH;FMTTYPE=image/png:https://rumsyndicate.live/wp-content/uploads/2025/03/Honu-IG-1.png
END:VEVENT
END:VCALENDAR