BEGIN:VCALENDAR
VERSION:2.0
PRODID:-//The Rum Syndicate - ECPv6.15.17.1//NONSGML v1.0//EN
CALSCALE:GREGORIAN
METHOD:PUBLISH
X-WR-CALNAME:The Rum Syndicate
X-ORIGINAL-URL:https://rumsyndicate.live
X-WR-CALDESC:Events for The Rum Syndicate
REFRESH-INTERVAL;VALUE=DURATION:PT1H
X-Robots-Tag:noindex
X-PUBLISHED-TTL:PT1H
BEGIN:VTIMEZONE
TZID:America/New_York
BEGIN:DAYLIGHT
TZOFFSETFROM:-0500
TZOFFSETTO:-0400
TZNAME:EDT
DTSTART:20230312T070000
END:DAYLIGHT
BEGIN:STANDARD
TZOFFSETFROM:-0400
TZOFFSETTO:-0500
TZNAME:EST
DTSTART:20231105T060000
END:STANDARD
BEGIN:DAYLIGHT
TZOFFSETFROM:-0500
TZOFFSETTO:-0400
TZNAME:EDT
DTSTART:20240310T070000
END:DAYLIGHT
BEGIN:STANDARD
TZOFFSETFROM:-0400
TZOFFSETTO:-0500
TZNAME:EST
DTSTART:20241103T060000
END:STANDARD
BEGIN:DAYLIGHT
TZOFFSETFROM:-0500
TZOFFSETTO:-0400
TZNAME:EDT
DTSTART:20250309T070000
END:DAYLIGHT
BEGIN:STANDARD
TZOFFSETFROM:-0400
TZOFFSETTO:-0500
TZNAME:EST
DTSTART:20251102T060000
END:STANDARD
END:VTIMEZONE
BEGIN:VEVENT
DTSTART;TZID=America/New_York:20241228T190000
DTEND;TZID=America/New_York:20241228T220000
DTSTAMP:20260421T052119
CREATED:20241220T031757Z
LAST-MODIFIED:20241220T031757Z
UID:44-1735412400-1735423200@rumsyndicate.live
SUMMARY:Tommy & Mimi LIVE at The HONU
DESCRIPTION:It’s Tommy and Mimi’s trek to Dunedin to playthe gorgeous courtyard at the HONU. Join them as theyplay an eclectic mix of music from various genres anddecades while you enjoy amazing food and the bestcraft cocktails in town.\nThe fun starts at 7 pm\, so be sure to grab your tablesearly!
URL:https://rumsyndicate.live/index.php/event/tommy-mimi-live-at-the-honu/
LOCATION:The Honu\, 516 Grant Street\, Dunedin\, FL\, 34698\, United States
END:VEVENT
END:VCALENDAR